BEGIN:VCALENDAR
VERSION:2.0
PRODID:-//Oleander Pointe Condominium Association - ECPv6.15.20//NONSGML v1.0//EN
CALSCALE:GREGORIAN
METHOD:PUBLISH
X-WR-CALNAME:Oleander Pointe Condominium Association
X-ORIGINAL-URL:https://www.oleanderpointe.com
X-WR-CALDESC:Events for Oleander Pointe Condominium Association
REFRESH-INTERVAL;VALUE=DURATION:PT1H
X-Robots-Tag:noindex
X-PUBLISHED-TTL:PT1H
BEGIN:VTIMEZONE
TZID:America/New_York
BEGIN:DAYLIGHT
TZOFFSETFROM:-0500
TZOFFSETTO:-0400
TZNAME:EDT
DTSTART:20250309T070000
END:DAYLIGHT
BEGIN:STANDARD
TZOFFSETFROM:-0400
TZOFFSETTO:-0500
TZNAME:EST
DTSTART:20251102T060000
END:STANDARD
BEGIN:DAYLIGHT
TZOFFSETFROM:-0500
TZOFFSETTO:-0400
TZNAME:EDT
DTSTART:20260308T070000
END:DAYLIGHT
BEGIN:STANDARD
TZOFFSETFROM:-0400
TZOFFSETTO:-0500
TZNAME:EST
DTSTART:20261101T060000
END:STANDARD
BEGIN:DAYLIGHT
TZOFFSETFROM:-0500
TZOFFSETTO:-0400
TZNAME:EDT
DTSTART:20270314T070000
END:DAYLIGHT
BEGIN:STANDARD
TZOFFSETFROM:-0400
TZOFFSETTO:-0500
TZNAME:EST
DTSTART:20271107T060000
END:STANDARD
END:VTIMEZONE
BEGIN:VEVENT
DTSTART;TZID=America/New_York:20260720T130000
DTEND;TZID=America/New_York:20260720T170000
DTSTAMP:20260424T083245
CREATED:20251121T205551Z
LAST-MODIFIED:20251121T205551Z
UID:10000117-1784552400-1784566800@www.oleanderpointe.com
SUMMARY:Mahjong
DESCRIPTION:Mahjong\nEvery Monday in the Card/ Game Room\nFrom 1 – 5 PM
URL:https://www.oleanderpointe.com/event/mahjong/2026-07-20/
LOCATION:Card/Game Room\, 104 Riverside Dr\, Cocoa\, FL\, 32922\, United States
CATEGORIES:Social
ATTACH;FMTTYPE=image/jpeg:https://www.oleanderpointe.com/wp-content/uploads/2025/11/Mahjong.jpg
END:VEVENT
BEGIN:VEVENT
DTSTART;TZID=America/New_York:20260727T130000
DTEND;TZID=America/New_York:20260727T170000
DTSTAMP:20260424T083245
CREATED:20251121T205551Z
LAST-MODIFIED:20251121T205551Z
UID:10000118-1785157200-1785171600@www.oleanderpointe.com
SUMMARY:Mahjong
DESCRIPTION:Mahjong\nEvery Monday in the Card/ Game Room\nFrom 1 – 5 PM
URL:https://www.oleanderpointe.com/event/mahjong/2026-07-27/
LOCATION:Card/Game Room\, 104 Riverside Dr\, Cocoa\, FL\, 32922\, United States
CATEGORIES:Social
ATTACH;FMTTYPE=image/jpeg:https://www.oleanderpointe.com/wp-content/uploads/2025/11/Mahjong.jpg
END:VEVENT
BEGIN:VEVENT
DTSTART;TZID=America/New_York:20260803T130000
DTEND;TZID=America/New_York:20260803T170000
DTSTAMP:20260424T083245
CREATED:20251121T205551Z
LAST-MODIFIED:20251121T205551Z
UID:10000119-1785762000-1785776400@www.oleanderpointe.com
SUMMARY:Mahjong
DESCRIPTION:Mahjong\nEvery Monday in the Card/ Game Room\nFrom 1 – 5 PM
URL:https://www.oleanderpointe.com/event/mahjong/2026-08-03/
LOCATION:Card/Game Room\, 104 Riverside Dr\, Cocoa\, FL\, 32922\, United States
CATEGORIES:Social
ATTACH;FMTTYPE=image/jpeg:https://www.oleanderpointe.com/wp-content/uploads/2025/11/Mahjong.jpg
END:VEVENT
BEGIN:VEVENT
DTSTART;TZID=America/New_York:20260810T130000
DTEND;TZID=America/New_York:20260810T170000
DTSTAMP:20260424T083245
CREATED:20251121T205551Z
LAST-MODIFIED:20251121T205551Z
UID:10000120-1786366800-1786381200@www.oleanderpointe.com
SUMMARY:Mahjong
DESCRIPTION:Mahjong\nEvery Monday in the Card/ Game Room\nFrom 1 – 5 PM
URL:https://www.oleanderpointe.com/event/mahjong/2026-08-10/
LOCATION:Card/Game Room\, 104 Riverside Dr\, Cocoa\, FL\, 32922\, United States
CATEGORIES:Social
ATTACH;FMTTYPE=image/jpeg:https://www.oleanderpointe.com/wp-content/uploads/2025/11/Mahjong.jpg
END:VEVENT
BEGIN:VEVENT
DTSTART;TZID=America/New_York:20260817T130000
DTEND;TZID=America/New_York:20260817T170000
DTSTAMP:20260424T083245
CREATED:20251121T205551Z
LAST-MODIFIED:20251121T205551Z
UID:10000121-1786971600-1786986000@www.oleanderpointe.com
SUMMARY:Mahjong
DESCRIPTION:Mahjong\nEvery Monday in the Card/ Game Room\nFrom 1 – 5 PM
URL:https://www.oleanderpointe.com/event/mahjong/2026-08-17/
LOCATION:Card/Game Room\, 104 Riverside Dr\, Cocoa\, FL\, 32922\, United States
CATEGORIES:Social
ATTACH;FMTTYPE=image/jpeg:https://www.oleanderpointe.com/wp-content/uploads/2025/11/Mahjong.jpg
END:VEVENT
BEGIN:VEVENT
DTSTART;TZID=America/New_York:20260824T130000
DTEND;TZID=America/New_York:20260824T170000
DTSTAMP:20260424T083245
CREATED:20251121T205551Z
LAST-MODIFIED:20251121T205551Z
UID:10000122-1787576400-1787590800@www.oleanderpointe.com
SUMMARY:Mahjong
DESCRIPTION:Mahjong\nEvery Monday in the Card/ Game Room\nFrom 1 – 5 PM
URL:https://www.oleanderpointe.com/event/mahjong/2026-08-24/
LOCATION:Card/Game Room\, 104 Riverside Dr\, Cocoa\, FL\, 32922\, United States
CATEGORIES:Social
ATTACH;FMTTYPE=image/jpeg:https://www.oleanderpointe.com/wp-content/uploads/2025/11/Mahjong.jpg
END:VEVENT
BEGIN:VEVENT
DTSTART;TZID=America/New_York:20260831T130000
DTEND;TZID=America/New_York:20260831T170000
DTSTAMP:20260424T083245
CREATED:20251121T205551Z
LAST-MODIFIED:20251121T205551Z
UID:10000123-1788181200-1788195600@www.oleanderpointe.com
SUMMARY:Mahjong
DESCRIPTION:Mahjong\nEvery Monday in the Card/ Game Room\nFrom 1 – 5 PM
URL:https://www.oleanderpointe.com/event/mahjong/2026-08-31/
LOCATION:Card/Game Room\, 104 Riverside Dr\, Cocoa\, FL\, 32922\, United States
CATEGORIES:Social
ATTACH;FMTTYPE=image/jpeg:https://www.oleanderpointe.com/wp-content/uploads/2025/11/Mahjong.jpg
END:VEVENT
BEGIN:VEVENT
DTSTART;TZID=America/New_York:20260907T130000
DTEND;TZID=America/New_York:20260907T170000
DTSTAMP:20260424T083245
CREATED:20251121T205551Z
LAST-MODIFIED:20251121T205551Z
UID:10000124-1788786000-1788800400@www.oleanderpointe.com
SUMMARY:Mahjong
DESCRIPTION:Mahjong\nEvery Monday in the Card/ Game Room\nFrom 1 – 5 PM
URL:https://www.oleanderpointe.com/event/mahjong/2026-09-07/
LOCATION:Card/Game Room\, 104 Riverside Dr\, Cocoa\, FL\, 32922\, United States
CATEGORIES:Social
ATTACH;FMTTYPE=image/jpeg:https://www.oleanderpointe.com/wp-content/uploads/2025/11/Mahjong.jpg
END:VEVENT
BEGIN:VEVENT
DTSTART;TZID=America/New_York:20260914T130000
DTEND;TZID=America/New_York:20260914T170000
DTSTAMP:20260424T083245
CREATED:20251121T205551Z
LAST-MODIFIED:20251121T205551Z
UID:10000125-1789390800-1789405200@www.oleanderpointe.com
SUMMARY:Mahjong
DESCRIPTION:Mahjong\nEvery Monday in the Card/ Game Room\nFrom 1 – 5 PM
URL:https://www.oleanderpointe.com/event/mahjong/2026-09-14/
LOCATION:Card/Game Room\, 104 Riverside Dr\, Cocoa\, FL\, 32922\, United States
CATEGORIES:Social
ATTACH;FMTTYPE=image/jpeg:https://www.oleanderpointe.com/wp-content/uploads/2025/11/Mahjong.jpg
END:VEVENT
BEGIN:VEVENT
DTSTART;TZID=America/New_York:20260921T130000
DTEND;TZID=America/New_York:20260921T170000
DTSTAMP:20260424T083245
CREATED:20251121T205551Z
LAST-MODIFIED:20251121T205551Z
UID:10000126-1789995600-1790010000@www.oleanderpointe.com
SUMMARY:Mahjong
DESCRIPTION:Mahjong\nEvery Monday in the Card/ Game Room\nFrom 1 – 5 PM
URL:https://www.oleanderpointe.com/event/mahjong/2026-09-21/
LOCATION:Card/Game Room\, 104 Riverside Dr\, Cocoa\, FL\, 32922\, United States
CATEGORIES:Social
ATTACH;FMTTYPE=image/jpeg:https://www.oleanderpointe.com/wp-content/uploads/2025/11/Mahjong.jpg
END:VEVENT
BEGIN:VEVENT
DTSTART;TZID=America/New_York:20260928T130000
DTEND;TZID=America/New_York:20260928T170000
DTSTAMP:20260424T083245
CREATED:20251121T205551Z
LAST-MODIFIED:20251121T205551Z
UID:10000127-1790600400-1790614800@www.oleanderpointe.com
SUMMARY:Mahjong
DESCRIPTION:Mahjong\nEvery Monday in the Card/ Game Room\nFrom 1 – 5 PM
URL:https://www.oleanderpointe.com/event/mahjong/2026-09-28/
LOCATION:Card/Game Room\, 104 Riverside Dr\, Cocoa\, FL\, 32922\, United States
CATEGORIES:Social
ATTACH;FMTTYPE=image/jpeg:https://www.oleanderpointe.com/wp-content/uploads/2025/11/Mahjong.jpg
END:VEVENT
BEGIN:VEVENT
DTSTART;TZID=America/New_York:20261005T130000
DTEND;TZID=America/New_York:20261005T170000
DTSTAMP:20260424T083245
CREATED:20251121T205551Z
LAST-MODIFIED:20251121T205551Z
UID:10000128-1791205200-1791219600@www.oleanderpointe.com
SUMMARY:Mahjong
DESCRIPTION:Mahjong\nEvery Monday in the Card/ Game Room\nFrom 1 – 5 PM
URL:https://www.oleanderpointe.com/event/mahjong/2026-10-05/
LOCATION:Card/Game Room\, 104 Riverside Dr\, Cocoa\, FL\, 32922\, United States
CATEGORIES:Social
ATTACH;FMTTYPE=image/jpeg:https://www.oleanderpointe.com/wp-content/uploads/2025/11/Mahjong.jpg
END:VEVENT
BEGIN:VEVENT
DTSTART;TZID=America/New_York:20261012T130000
DTEND;TZID=America/New_York:20261012T170000
DTSTAMP:20260424T083245
CREATED:20251121T205551Z
LAST-MODIFIED:20251121T205551Z
UID:10000129-1791810000-1791824400@www.oleanderpointe.com
SUMMARY:Mahjong
DESCRIPTION:Mahjong\nEvery Monday in the Card/ Game Room\nFrom 1 – 5 PM
URL:https://www.oleanderpointe.com/event/mahjong/2026-10-12/
LOCATION:Card/Game Room\, 104 Riverside Dr\, Cocoa\, FL\, 32922\, United States
CATEGORIES:Social
ATTACH;FMTTYPE=image/jpeg:https://www.oleanderpointe.com/wp-content/uploads/2025/11/Mahjong.jpg
END:VEVENT
BEGIN:VEVENT
DTSTART;TZID=America/New_York:20261019T130000
DTEND;TZID=America/New_York:20261019T170000
DTSTAMP:20260424T083245
CREATED:20251121T205551Z
LAST-MODIFIED:20251121T205551Z
UID:10000130-1792414800-1792429200@www.oleanderpointe.com
SUMMARY:Mahjong
DESCRIPTION:Mahjong\nEvery Monday in the Card/ Game Room\nFrom 1 – 5 PM
URL:https://www.oleanderpointe.com/event/mahjong/2026-10-19/
LOCATION:Card/Game Room\, 104 Riverside Dr\, Cocoa\, FL\, 32922\, United States
CATEGORIES:Social
ATTACH;FMTTYPE=image/jpeg:https://www.oleanderpointe.com/wp-content/uploads/2025/11/Mahjong.jpg
END:VEVENT
BEGIN:VEVENT
DTSTART;TZID=America/New_York:20261026T130000
DTEND;TZID=America/New_York:20261026T170000
DTSTAMP:20260424T083245
CREATED:20251121T205551Z
LAST-MODIFIED:20251121T205551Z
UID:10000131-1793019600-1793034000@www.oleanderpointe.com
SUMMARY:Mahjong
DESCRIPTION:Mahjong\nEvery Monday in the Card/ Game Room\nFrom 1 – 5 PM
URL:https://www.oleanderpointe.com/event/mahjong/2026-10-26/
LOCATION:Card/Game Room\, 104 Riverside Dr\, Cocoa\, FL\, 32922\, United States
CATEGORIES:Social
ATTACH;FMTTYPE=image/jpeg:https://www.oleanderpointe.com/wp-content/uploads/2025/11/Mahjong.jpg
END:VEVENT
BEGIN:VEVENT
DTSTART;TZID=America/New_York:20261102T130000
DTEND;TZID=America/New_York:20261102T170000
DTSTAMP:20260424T083245
CREATED:20251121T205551Z
LAST-MODIFIED:20251121T205551Z
UID:10000132-1793624400-1793638800@www.oleanderpointe.com
SUMMARY:Mahjong
DESCRIPTION:Mahjong\nEvery Monday in the Card/ Game Room\nFrom 1 – 5 PM
URL:https://www.oleanderpointe.com/event/mahjong/2026-11-02/
LOCATION:Card/Game Room\, 104 Riverside Dr\, Cocoa\, FL\, 32922\, United States
CATEGORIES:Social
ATTACH;FMTTYPE=image/jpeg:https://www.oleanderpointe.com/wp-content/uploads/2025/11/Mahjong.jpg
END:VEVENT
BEGIN:VEVENT
DTSTART;TZID=America/New_York:20261109T130000
DTEND;TZID=America/New_York:20261109T170000
DTSTAMP:20260424T083245
CREATED:20251121T205551Z
LAST-MODIFIED:20251121T205551Z
UID:10000133-1794229200-1794243600@www.oleanderpointe.com
SUMMARY:Mahjong
DESCRIPTION:Mahjong\nEvery Monday in the Card/ Game Room\nFrom 1 – 5 PM
URL:https://www.oleanderpointe.com/event/mahjong/2026-11-09/
LOCATION:Card/Game Room\, 104 Riverside Dr\, Cocoa\, FL\, 32922\, United States
CATEGORIES:Social
ATTACH;FMTTYPE=image/jpeg:https://www.oleanderpointe.com/wp-content/uploads/2025/11/Mahjong.jpg
END:VEVENT
BEGIN:VEVENT
DTSTART;TZID=America/New_York:20261116T130000
DTEND;TZID=America/New_York:20261116T170000
DTSTAMP:20260424T083245
CREATED:20251121T205551Z
LAST-MODIFIED:20251121T205551Z
UID:10000134-1794834000-1794848400@www.oleanderpointe.com
SUMMARY:Mahjong
DESCRIPTION:Mahjong\nEvery Monday in the Card/ Game Room\nFrom 1 – 5 PM
URL:https://www.oleanderpointe.com/event/mahjong/2026-11-16/
LOCATION:Card/Game Room\, 104 Riverside Dr\, Cocoa\, FL\, 32922\, United States
CATEGORIES:Social
ATTACH;FMTTYPE=image/jpeg:https://www.oleanderpointe.com/wp-content/uploads/2025/11/Mahjong.jpg
END:VEVENT
BEGIN:VEVENT
DTSTART;TZID=America/New_York:20261123T130000
DTEND;TZID=America/New_York:20261123T170000
DTSTAMP:20260424T083245
CREATED:20251121T205551Z
LAST-MODIFIED:20251121T205551Z
UID:10000135-1795438800-1795453200@www.oleanderpointe.com
SUMMARY:Mahjong
DESCRIPTION:Mahjong\nEvery Monday in the Card/ Game Room\nFrom 1 – 5 PM
URL:https://www.oleanderpointe.com/event/mahjong/2026-11-23/
LOCATION:Card/Game Room\, 104 Riverside Dr\, Cocoa\, FL\, 32922\, United States
CATEGORIES:Social
ATTACH;FMTTYPE=image/jpeg:https://www.oleanderpointe.com/wp-content/uploads/2025/11/Mahjong.jpg
END:VEVENT
BEGIN:VEVENT
DTSTART;TZID=America/New_York:20261130T130000
DTEND;TZID=America/New_York:20261130T170000
DTSTAMP:20260424T083245
CREATED:20251121T205551Z
LAST-MODIFIED:20251121T205551Z
UID:10000136-1796043600-1796058000@www.oleanderpointe.com
SUMMARY:Mahjong
DESCRIPTION:Mahjong\nEvery Monday in the Card/ Game Room\nFrom 1 – 5 PM
URL:https://www.oleanderpointe.com/event/mahjong/2026-11-30/
LOCATION:Card/Game Room\, 104 Riverside Dr\, Cocoa\, FL\, 32922\, United States
CATEGORIES:Social
ATTACH;FMTTYPE=image/jpeg:https://www.oleanderpointe.com/wp-content/uploads/2025/11/Mahjong.jpg
END:VEVENT
BEGIN:VEVENT
DTSTART;TZID=America/New_York:20261207T130000
DTEND;TZID=America/New_York:20261207T170000
DTSTAMP:20260424T083245
CREATED:20251121T205551Z
LAST-MODIFIED:20251121T205551Z
UID:10000137-1796648400-1796662800@www.oleanderpointe.com
SUMMARY:Mahjong
DESCRIPTION:Mahjong\nEvery Monday in the Card/ Game Room\nFrom 1 – 5 PM
URL:https://www.oleanderpointe.com/event/mahjong/2026-12-07/
LOCATION:Card/Game Room\, 104 Riverside Dr\, Cocoa\, FL\, 32922\, United States
CATEGORIES:Social
ATTACH;FMTTYPE=image/jpeg:https://www.oleanderpointe.com/wp-content/uploads/2025/11/Mahjong.jpg
END:VEVENT
BEGIN:VEVENT
DTSTART;TZID=America/New_York:20261214T130000
DTEND;TZID=America/New_York:20261214T170000
DTSTAMP:20260424T083245
CREATED:20251121T205551Z
LAST-MODIFIED:20251121T205551Z
UID:10000138-1797253200-1797267600@www.oleanderpointe.com
SUMMARY:Mahjong
DESCRIPTION:Mahjong\nEvery Monday in the Card/ Game Room\nFrom 1 – 5 PM
URL:https://www.oleanderpointe.com/event/mahjong/2026-12-14/
LOCATION:Card/Game Room\, 104 Riverside Dr\, Cocoa\, FL\, 32922\, United States
CATEGORIES:Social
ATTACH;FMTTYPE=image/jpeg:https://www.oleanderpointe.com/wp-content/uploads/2025/11/Mahjong.jpg
END:VEVENT
BEGIN:VEVENT
DTSTART;TZID=America/New_York:20261221T130000
DTEND;TZID=America/New_York:20261221T170000
DTSTAMP:20260424T083245
CREATED:20251121T205551Z
LAST-MODIFIED:20251121T205551Z
UID:10000139-1797858000-1797872400@www.oleanderpointe.com
SUMMARY:Mahjong
DESCRIPTION:Mahjong\nEvery Monday in the Card/ Game Room\nFrom 1 – 5 PM
URL:https://www.oleanderpointe.com/event/mahjong/2026-12-21/
LOCATION:Card/Game Room\, 104 Riverside Dr\, Cocoa\, FL\, 32922\, United States
CATEGORIES:Social
ATTACH;FMTTYPE=image/jpeg:https://www.oleanderpointe.com/wp-content/uploads/2025/11/Mahjong.jpg
END:VEVENT
BEGIN:VEVENT
DTSTART;TZID=America/New_York:20261228T130000
DTEND;TZID=America/New_York:20261228T170000
DTSTAMP:20260424T083245
CREATED:20251121T205551Z
LAST-MODIFIED:20251121T205551Z
UID:10000140-1798462800-1798477200@www.oleanderpointe.com
SUMMARY:Mahjong
DESCRIPTION:Mahjong\nEvery Monday in the Card/ Game Room\nFrom 1 – 5 PM
URL:https://www.oleanderpointe.com/event/mahjong/2026-12-28/
LOCATION:Card/Game Room\, 104 Riverside Dr\, Cocoa\, FL\, 32922\, United States
CATEGORIES:Social
ATTACH;FMTTYPE=image/jpeg:https://www.oleanderpointe.com/wp-content/uploads/2025/11/Mahjong.jpg
END:VEVENT
END:VCALENDAR