BEGIN:VCALENDAR
VERSION:2.0
PRODID:-//Oleander Pointe Condominium Association - ECPv6.15.20//NONSGML v1.0//EN
CALSCALE:GREGORIAN
METHOD:PUBLISH
X-ORIGINAL-URL:https://www.oleanderpointe.com
X-WR-CALDESC:Events for Oleander Pointe Condominium Association
REFRESH-INTERVAL;VALUE=DURATION:PT1H
X-Robots-Tag:noindex
X-PUBLISHED-TTL:PT1H
BEGIN:VTIMEZONE
TZID:America/New_York
BEGIN:DAYLIGHT
TZOFFSETFROM:-0500
TZOFFSETTO:-0400
TZNAME:EDT
DTSTART:20250309T070000
END:DAYLIGHT
BEGIN:STANDARD
TZOFFSETFROM:-0400
TZOFFSETTO:-0500
TZNAME:EST
DTSTART:20251102T060000
END:STANDARD
BEGIN:DAYLIGHT
TZOFFSETFROM:-0500
TZOFFSETTO:-0400
TZNAME:EDT
DTSTART:20260308T070000
END:DAYLIGHT
BEGIN:STANDARD
TZOFFSETFROM:-0400
TZOFFSETTO:-0500
TZNAME:EST
DTSTART:20261101T060000
END:STANDARD
BEGIN:DAYLIGHT
TZOFFSETFROM:-0500
TZOFFSETTO:-0400
TZNAME:EDT
DTSTART:20270314T070000
END:DAYLIGHT
BEGIN:STANDARD
TZOFFSETFROM:-0400
TZOFFSETTO:-0500
TZNAME:EST
DTSTART:20271107T060000
END:STANDARD
END:VTIMEZONE
BEGIN:VEVENT
DTSTART;TZID=America/New_York:20260514T170000
DTEND;TZID=America/New_York:20260514T190000
DTSTAMP:20260424T073853
CREATED:20251104T200903Z
LAST-MODIFIED:20251105T185427Z
UID:10000032-1778778000-1778785200@www.oleanderpointe.com
SUMMARY:Happy Hour Thursdays!
DESCRIPTION:Happy Hour!\n5-7 PM  in  the Brevard Room\nAll Are Invited\nHappy Hours is Held Every Second Thursday and Last Sunday of the MonthPlease Bring a Snack to Share
URL:https://www.oleanderpointe.com/event/happy-hour/2026-05-14/
LOCATION:Brevard Room\, 104 Riverside Dr\, Cocoa\, FL\, 32922\, United States
CATEGORIES:Social
ATTACH;FMTTYPE=image/jpeg:https://www.oleanderpointe.com/wp-content/uploads/2025/11/happy_hour_w_logo.jpg
END:VEVENT
BEGIN:VEVENT
DTSTART;TZID=America/New_York:20260611T170000
DTEND;TZID=America/New_York:20260611T190000
DTSTAMP:20260424T073853
CREATED:20251104T200903Z
LAST-MODIFIED:20251105T185427Z
UID:10000036-1781197200-1781204400@www.oleanderpointe.com
SUMMARY:Happy Hour Thursdays!
DESCRIPTION:Happy Hour!\n5-7 PM  in  the Brevard Room\nAll Are Invited\nHappy Hours is Held Every Second Thursday and Last Sunday of the MonthPlease Bring a Snack to Share
URL:https://www.oleanderpointe.com/event/happy-hour/2026-06-11/
LOCATION:Brevard Room\, 104 Riverside Dr\, Cocoa\, FL\, 32922\, United States
CATEGORIES:Social
ATTACH;FMTTYPE=image/jpeg:https://www.oleanderpointe.com/wp-content/uploads/2025/11/happy_hour_w_logo.jpg
END:VEVENT
BEGIN:VEVENT
DTSTART;TZID=America/New_York:20260709T170000
DTEND;TZID=America/New_York:20260709T190000
DTSTAMP:20260424T073853
CREATED:20251104T200903Z
LAST-MODIFIED:20251105T185427Z
UID:10000040-1783616400-1783623600@www.oleanderpointe.com
SUMMARY:Happy Hour Thursdays!
DESCRIPTION:Happy Hour!\n5-7 PM  in  the Brevard Room\nAll Are Invited\nHappy Hours is Held Every Second Thursday and Last Sunday of the MonthPlease Bring a Snack to Share
URL:https://www.oleanderpointe.com/event/happy-hour/2026-07-09/
LOCATION:Brevard Room\, 104 Riverside Dr\, Cocoa\, FL\, 32922\, United States
CATEGORIES:Social
ATTACH;FMTTYPE=image/jpeg:https://www.oleanderpointe.com/wp-content/uploads/2025/11/happy_hour_w_logo.jpg
END:VEVENT
BEGIN:VEVENT
DTSTART;TZID=America/New_York:20260813T170000
DTEND;TZID=America/New_York:20260813T190000
DTSTAMP:20260424T073853
CREATED:20251104T200903Z
LAST-MODIFIED:20251105T185427Z
UID:10000045-1786640400-1786647600@www.oleanderpointe.com
SUMMARY:Happy Hour Thursdays!
DESCRIPTION:Happy Hour!\n5-7 PM  in  the Brevard Room\nAll Are Invited\nHappy Hours is Held Every Second Thursday and Last Sunday of the MonthPlease Bring a Snack to Share
URL:https://www.oleanderpointe.com/event/happy-hour/2026-08-13/
LOCATION:Brevard Room\, 104 Riverside Dr\, Cocoa\, FL\, 32922\, United States
CATEGORIES:Social
ATTACH;FMTTYPE=image/jpeg:https://www.oleanderpointe.com/wp-content/uploads/2025/11/happy_hour_w_logo.jpg
END:VEVENT
BEGIN:VEVENT
DTSTART;TZID=America/New_York:20260910T170000
DTEND;TZID=America/New_York:20260910T190000
DTSTAMP:20260424T073853
CREATED:20251104T200903Z
LAST-MODIFIED:20251105T185427Z
UID:10000049-1789059600-1789066800@www.oleanderpointe.com
SUMMARY:Happy Hour Thursdays!
DESCRIPTION:Happy Hour!\n5-7 PM  in  the Brevard Room\nAll Are Invited\nHappy Hours is Held Every Second Thursday and Last Sunday of the MonthPlease Bring a Snack to Share
URL:https://www.oleanderpointe.com/event/happy-hour/2026-09-10/
LOCATION:Brevard Room\, 104 Riverside Dr\, Cocoa\, FL\, 32922\, United States
CATEGORIES:Social
ATTACH;FMTTYPE=image/jpeg:https://www.oleanderpointe.com/wp-content/uploads/2025/11/happy_hour_w_logo.jpg
END:VEVENT
BEGIN:VEVENT
DTSTART;TZID=America/New_York:20261008T170000
DTEND;TZID=America/New_York:20261008T190000
DTSTAMP:20260424T073853
CREATED:20251104T200903Z
LAST-MODIFIED:20251105T185427Z
UID:10000053-1791478800-1791486000@www.oleanderpointe.com
SUMMARY:Happy Hour Thursdays!
DESCRIPTION:Happy Hour!\n5-7 PM  in  the Brevard Room\nAll Are Invited\nHappy Hours is Held Every Second Thursday and Last Sunday of the MonthPlease Bring a Snack to Share
URL:https://www.oleanderpointe.com/event/happy-hour/2026-10-08/
LOCATION:Brevard Room\, 104 Riverside Dr\, Cocoa\, FL\, 32922\, United States
CATEGORIES:Social
ATTACH;FMTTYPE=image/jpeg:https://www.oleanderpointe.com/wp-content/uploads/2025/11/happy_hour_w_logo.jpg
END:VEVENT
BEGIN:VEVENT
DTSTART;TZID=America/New_York:20261112T170000
DTEND;TZID=America/New_York:20261112T190000
DTSTAMP:20260424T073853
CREATED:20251104T200903Z
LAST-MODIFIED:20251105T185427Z
UID:10000058-1794502800-1794510000@www.oleanderpointe.com
SUMMARY:Happy Hour Thursdays!
DESCRIPTION:Happy Hour!\n5-7 PM  in  the Brevard Room\nAll Are Invited\nHappy Hours is Held Every Second Thursday and Last Sunday of the MonthPlease Bring a Snack to Share
URL:https://www.oleanderpointe.com/event/happy-hour/2026-11-12/
LOCATION:Brevard Room\, 104 Riverside Dr\, Cocoa\, FL\, 32922\, United States
CATEGORIES:Social
ATTACH;FMTTYPE=image/jpeg:https://www.oleanderpointe.com/wp-content/uploads/2025/11/happy_hour_w_logo.jpg
END:VEVENT
BEGIN:VEVENT
DTSTART;TZID=America/New_York:20261210T170000
DTEND;TZID=America/New_York:20261210T190000
DTSTAMP:20260424T073853
CREATED:20251104T200903Z
LAST-MODIFIED:20251105T185427Z
UID:10000062-1796922000-1796929200@www.oleanderpointe.com
SUMMARY:Happy Hour Thursdays!
DESCRIPTION:Happy Hour!\n5-7 PM  in  the Brevard Room\nAll Are Invited\nHappy Hours is Held Every Second Thursday and Last Sunday of the MonthPlease Bring a Snack to Share
URL:https://www.oleanderpointe.com/event/happy-hour/2026-12-10/
LOCATION:Brevard Room\, 104 Riverside Dr\, Cocoa\, FL\, 32922\, United States
CATEGORIES:Social
ATTACH;FMTTYPE=image/jpeg:https://www.oleanderpointe.com/wp-content/uploads/2025/11/happy_hour_w_logo.jpg
END:VEVENT
END:VCALENDAR