BEGIN:VCALENDAR
VERSION:2.0
PRODID:-//Oleander Pointe Condominium Association - ECPv6.15.20//NONSGML v1.0//EN
CALSCALE:GREGORIAN
METHOD:PUBLISH
X-ORIGINAL-URL:https://www.oleanderpointe.com
X-WR-CALDESC:Events for Oleander Pointe Condominium Association
REFRESH-INTERVAL;VALUE=DURATION:PT1H
X-Robots-Tag:noindex
X-PUBLISHED-TTL:PT1H
BEGIN:VTIMEZONE
TZID:America/New_York
BEGIN:DAYLIGHT
TZOFFSETFROM:-0500
TZOFFSETTO:-0400
TZNAME:EDT
DTSTART:20250309T070000
END:DAYLIGHT
BEGIN:STANDARD
TZOFFSETFROM:-0400
TZOFFSETTO:-0500
TZNAME:EST
DTSTART:20251102T060000
END:STANDARD
BEGIN:DAYLIGHT
TZOFFSETFROM:-0500
TZOFFSETTO:-0400
TZNAME:EDT
DTSTART:20260308T070000
END:DAYLIGHT
BEGIN:STANDARD
TZOFFSETFROM:-0400
TZOFFSETTO:-0500
TZNAME:EST
DTSTART:20261101T060000
END:STANDARD
BEGIN:DAYLIGHT
TZOFFSETFROM:-0500
TZOFFSETTO:-0400
TZNAME:EDT
DTSTART:20270314T070000
END:DAYLIGHT
BEGIN:STANDARD
TZOFFSETFROM:-0400
TZOFFSETTO:-0500
TZNAME:EST
DTSTART:20271107T060000
END:STANDARD
END:VTIMEZONE
BEGIN:VEVENT
DTSTART;TZID=America/New_York:20261015T123000
DTEND;TZID=America/New_York:20261015T170000
DTSTAMP:20260424T100733
CREATED:20251208T205128Z
LAST-MODIFIED:20251208T205129Z
UID:10000301-1792067400-1792083600@www.oleanderpointe.com
SUMMARY:Canasta
DESCRIPTION:Canasta\nEvery Thursday in the Card/ Game Room\nFrom 12:30 – 5 PM
URL:https://www.oleanderpointe.com/event/canasta-2/2026-10-15/
LOCATION:Card/Game Room\, 104 Riverside Dr\, Cocoa\, FL\, 32922\, United States
CATEGORIES:Social
ATTACH;FMTTYPE=image/jpeg:https://www.oleanderpointe.com/wp-content/uploads/2025/11/Canasta.jpg
END:VEVENT
BEGIN:VEVENT
DTSTART;TZID=America/New_York:20261022T123000
DTEND;TZID=America/New_York:20261022T170000
DTSTAMP:20260424T100733
CREATED:20251208T205128Z
LAST-MODIFIED:20251208T205129Z
UID:10000302-1792672200-1792688400@www.oleanderpointe.com
SUMMARY:Canasta
DESCRIPTION:Canasta\nEvery Thursday in the Card/ Game Room\nFrom 12:30 – 5 PM
URL:https://www.oleanderpointe.com/event/canasta-2/2026-10-22/
LOCATION:Card/Game Room\, 104 Riverside Dr\, Cocoa\, FL\, 32922\, United States
CATEGORIES:Social
ATTACH;FMTTYPE=image/jpeg:https://www.oleanderpointe.com/wp-content/uploads/2025/11/Canasta.jpg
END:VEVENT
BEGIN:VEVENT
DTSTART;TZID=America/New_York:20261029T123000
DTEND;TZID=America/New_York:20261029T170000
DTSTAMP:20260424T100733
CREATED:20251208T205128Z
LAST-MODIFIED:20251208T205129Z
UID:10000303-1793277000-1793293200@www.oleanderpointe.com
SUMMARY:Canasta
DESCRIPTION:Canasta\nEvery Thursday in the Card/ Game Room\nFrom 12:30 – 5 PM
URL:https://www.oleanderpointe.com/event/canasta-2/2026-10-29/
LOCATION:Card/Game Room\, 104 Riverside Dr\, Cocoa\, FL\, 32922\, United States
CATEGORIES:Social
ATTACH;FMTTYPE=image/jpeg:https://www.oleanderpointe.com/wp-content/uploads/2025/11/Canasta.jpg
END:VEVENT
BEGIN:VEVENT
DTSTART;TZID=America/New_York:20261105T123000
DTEND;TZID=America/New_York:20261105T170000
DTSTAMP:20260424T100733
CREATED:20251208T205128Z
LAST-MODIFIED:20251208T205129Z
UID:10000304-1793881800-1793898000@www.oleanderpointe.com
SUMMARY:Canasta
DESCRIPTION:Canasta\nEvery Thursday in the Card/ Game Room\nFrom 12:30 – 5 PM
URL:https://www.oleanderpointe.com/event/canasta-2/2026-11-05/
LOCATION:Card/Game Room\, 104 Riverside Dr\, Cocoa\, FL\, 32922\, United States
CATEGORIES:Social
ATTACH;FMTTYPE=image/jpeg:https://www.oleanderpointe.com/wp-content/uploads/2025/11/Canasta.jpg
END:VEVENT
BEGIN:VEVENT
DTSTART;TZID=America/New_York:20261112T123000
DTEND;TZID=America/New_York:20261112T170000
DTSTAMP:20260424T100733
CREATED:20251208T205128Z
LAST-MODIFIED:20251208T205129Z
UID:10000305-1794486600-1794502800@www.oleanderpointe.com
SUMMARY:Canasta
DESCRIPTION:Canasta\nEvery Thursday in the Card/ Game Room\nFrom 12:30 – 5 PM
URL:https://www.oleanderpointe.com/event/canasta-2/2026-11-12/
LOCATION:Card/Game Room\, 104 Riverside Dr\, Cocoa\, FL\, 32922\, United States
CATEGORIES:Social
ATTACH;FMTTYPE=image/jpeg:https://www.oleanderpointe.com/wp-content/uploads/2025/11/Canasta.jpg
END:VEVENT
BEGIN:VEVENT
DTSTART;TZID=America/New_York:20261119T123000
DTEND;TZID=America/New_York:20261119T170000
DTSTAMP:20260424T100733
CREATED:20251208T205128Z
LAST-MODIFIED:20251208T205129Z
UID:10000306-1795091400-1795107600@www.oleanderpointe.com
SUMMARY:Canasta
DESCRIPTION:Canasta\nEvery Thursday in the Card/ Game Room\nFrom 12:30 – 5 PM
URL:https://www.oleanderpointe.com/event/canasta-2/2026-11-19/
LOCATION:Card/Game Room\, 104 Riverside Dr\, Cocoa\, FL\, 32922\, United States
CATEGORIES:Social
ATTACH;FMTTYPE=image/jpeg:https://www.oleanderpointe.com/wp-content/uploads/2025/11/Canasta.jpg
END:VEVENT
BEGIN:VEVENT
DTSTART;TZID=America/New_York:20261126T123000
DTEND;TZID=America/New_York:20261126T170000
DTSTAMP:20260424T100733
CREATED:20251208T205128Z
LAST-MODIFIED:20251208T205129Z
UID:10000307-1795696200-1795712400@www.oleanderpointe.com
SUMMARY:Canasta
DESCRIPTION:Canasta\nEvery Thursday in the Card/ Game Room\nFrom 12:30 – 5 PM
URL:https://www.oleanderpointe.com/event/canasta-2/2026-11-26/
LOCATION:Card/Game Room\, 104 Riverside Dr\, Cocoa\, FL\, 32922\, United States
CATEGORIES:Social
ATTACH;FMTTYPE=image/jpeg:https://www.oleanderpointe.com/wp-content/uploads/2025/11/Canasta.jpg
END:VEVENT
BEGIN:VEVENT
DTSTART;TZID=America/New_York:20261203T123000
DTEND;TZID=America/New_York:20261203T170000
DTSTAMP:20260424T100733
CREATED:20251208T205128Z
LAST-MODIFIED:20251208T205129Z
UID:10000308-1796301000-1796317200@www.oleanderpointe.com
SUMMARY:Canasta
DESCRIPTION:Canasta\nEvery Thursday in the Card/ Game Room\nFrom 12:30 – 5 PM
URL:https://www.oleanderpointe.com/event/canasta-2/2026-12-03/
LOCATION:Card/Game Room\, 104 Riverside Dr\, Cocoa\, FL\, 32922\, United States
CATEGORIES:Social
ATTACH;FMTTYPE=image/jpeg:https://www.oleanderpointe.com/wp-content/uploads/2025/11/Canasta.jpg
END:VEVENT
BEGIN:VEVENT
DTSTART;TZID=America/New_York:20261210T123000
DTEND;TZID=America/New_York:20261210T170000
DTSTAMP:20260424T100733
CREATED:20251208T205128Z
LAST-MODIFIED:20251208T205129Z
UID:10000309-1796905800-1796922000@www.oleanderpointe.com
SUMMARY:Canasta
DESCRIPTION:Canasta\nEvery Thursday in the Card/ Game Room\nFrom 12:30 – 5 PM
URL:https://www.oleanderpointe.com/event/canasta-2/2026-12-10/
LOCATION:Card/Game Room\, 104 Riverside Dr\, Cocoa\, FL\, 32922\, United States
CATEGORIES:Social
ATTACH;FMTTYPE=image/jpeg:https://www.oleanderpointe.com/wp-content/uploads/2025/11/Canasta.jpg
END:VEVENT
BEGIN:VEVENT
DTSTART;TZID=America/New_York:20261217T123000
DTEND;TZID=America/New_York:20261217T170000
DTSTAMP:20260424T100733
CREATED:20251208T205128Z
LAST-MODIFIED:20251208T205129Z
UID:10000310-1797510600-1797526800@www.oleanderpointe.com
SUMMARY:Canasta
DESCRIPTION:Canasta\nEvery Thursday in the Card/ Game Room\nFrom 12:30 – 5 PM
URL:https://www.oleanderpointe.com/event/canasta-2/2026-12-17/
LOCATION:Card/Game Room\, 104 Riverside Dr\, Cocoa\, FL\, 32922\, United States
CATEGORIES:Social
ATTACH;FMTTYPE=image/jpeg:https://www.oleanderpointe.com/wp-content/uploads/2025/11/Canasta.jpg
END:VEVENT
BEGIN:VEVENT
DTSTART;TZID=America/New_York:20261224T123000
DTEND;TZID=America/New_York:20261224T170000
DTSTAMP:20260424T100733
CREATED:20251208T205128Z
LAST-MODIFIED:20251208T205129Z
UID:10000311-1798115400-1798131600@www.oleanderpointe.com
SUMMARY:Canasta
DESCRIPTION:Canasta\nEvery Thursday in the Card/ Game Room\nFrom 12:30 – 5 PM
URL:https://www.oleanderpointe.com/event/canasta-2/2026-12-24/
LOCATION:Card/Game Room\, 104 Riverside Dr\, Cocoa\, FL\, 32922\, United States
CATEGORIES:Social
ATTACH;FMTTYPE=image/jpeg:https://www.oleanderpointe.com/wp-content/uploads/2025/11/Canasta.jpg
END:VEVENT
END:VCALENDAR