BEGIN:VCALENDAR
VERSION:2.0
PRODID:-//Oleander Pointe Condominium Association - ECPv6.15.20//NONSGML v1.0//EN
CALSCALE:GREGORIAN
METHOD:PUBLISH
X-WR-CALNAME:Oleander Pointe Condominium Association
X-ORIGINAL-URL:https://www.oleanderpointe.com
X-WR-CALDESC:Events for Oleander Pointe Condominium Association
REFRESH-INTERVAL;VALUE=DURATION:PT1H
X-Robots-Tag:noindex
X-PUBLISHED-TTL:PT1H
BEGIN:VTIMEZONE
TZID:America/New_York
BEGIN:DAYLIGHT
TZOFFSETFROM:-0500
TZOFFSETTO:-0400
TZNAME:EDT
DTSTART:20250309T070000
END:DAYLIGHT
BEGIN:STANDARD
TZOFFSETFROM:-0400
TZOFFSETTO:-0500
TZNAME:EST
DTSTART:20251102T060000
END:STANDARD
BEGIN:DAYLIGHT
TZOFFSETFROM:-0500
TZOFFSETTO:-0400
TZNAME:EDT
DTSTART:20260308T070000
END:DAYLIGHT
BEGIN:STANDARD
TZOFFSETFROM:-0400
TZOFFSETTO:-0500
TZNAME:EST
DTSTART:20261101T060000
END:STANDARD
BEGIN:DAYLIGHT
TZOFFSETFROM:-0500
TZOFFSETTO:-0400
TZNAME:EDT
DTSTART:20270314T070000
END:DAYLIGHT
BEGIN:STANDARD
TZOFFSETFROM:-0400
TZOFFSETTO:-0500
TZNAME:EST
DTSTART:20271107T060000
END:STANDARD
END:VTIMEZONE
BEGIN:VEVENT
DTSTART;TZID=America/New_York:20260430T123000
DTEND;TZID=America/New_York:20260430T170000
DTSTAMP:20260424T064027
CREATED:20251208T205128Z
LAST-MODIFIED:20251208T205129Z
UID:10000277-1777552200-1777568400@www.oleanderpointe.com
SUMMARY:Canasta
DESCRIPTION:Canasta\nEvery Thursday in the Card/ Game Room\nFrom 12:30 – 5 PM
URL:https://www.oleanderpointe.com/event/canasta-2/2026-04-30/
LOCATION:Card/Game Room\, 104 Riverside Dr\, Cocoa\, FL\, 32922\, United States
CATEGORIES:Social
ATTACH;FMTTYPE=image/jpeg:https://www.oleanderpointe.com/wp-content/uploads/2025/11/Canasta.jpg
END:VEVENT
BEGIN:VEVENT
DTSTART;TZID=America/New_York:20260507T123000
DTEND;TZID=America/New_York:20260507T170000
DTSTAMP:20260424T064027
CREATED:20251208T205128Z
LAST-MODIFIED:20251208T205129Z
UID:10000278-1778157000-1778173200@www.oleanderpointe.com
SUMMARY:Canasta
DESCRIPTION:Canasta\nEvery Thursday in the Card/ Game Room\nFrom 12:30 – 5 PM
URL:https://www.oleanderpointe.com/event/canasta-2/2026-05-07/
LOCATION:Card/Game Room\, 104 Riverside Dr\, Cocoa\, FL\, 32922\, United States
CATEGORIES:Social
ATTACH;FMTTYPE=image/jpeg:https://www.oleanderpointe.com/wp-content/uploads/2025/11/Canasta.jpg
END:VEVENT
BEGIN:VEVENT
DTSTART;TZID=America/New_York:20260514T123000
DTEND;TZID=America/New_York:20260514T170000
DTSTAMP:20260424T064027
CREATED:20251208T205128Z
LAST-MODIFIED:20251208T205129Z
UID:10000279-1778761800-1778778000@www.oleanderpointe.com
SUMMARY:Canasta
DESCRIPTION:Canasta\nEvery Thursday in the Card/ Game Room\nFrom 12:30 – 5 PM
URL:https://www.oleanderpointe.com/event/canasta-2/2026-05-14/
LOCATION:Card/Game Room\, 104 Riverside Dr\, Cocoa\, FL\, 32922\, United States
CATEGORIES:Social
ATTACH;FMTTYPE=image/jpeg:https://www.oleanderpointe.com/wp-content/uploads/2025/11/Canasta.jpg
END:VEVENT
BEGIN:VEVENT
DTSTART;TZID=America/New_York:20260521T123000
DTEND;TZID=America/New_York:20260521T170000
DTSTAMP:20260424T064027
CREATED:20251208T205128Z
LAST-MODIFIED:20251208T205129Z
UID:10000280-1779366600-1779382800@www.oleanderpointe.com
SUMMARY:Canasta
DESCRIPTION:Canasta\nEvery Thursday in the Card/ Game Room\nFrom 12:30 – 5 PM
URL:https://www.oleanderpointe.com/event/canasta-2/2026-05-21/
LOCATION:Card/Game Room\, 104 Riverside Dr\, Cocoa\, FL\, 32922\, United States
CATEGORIES:Social
ATTACH;FMTTYPE=image/jpeg:https://www.oleanderpointe.com/wp-content/uploads/2025/11/Canasta.jpg
END:VEVENT
BEGIN:VEVENT
DTSTART;TZID=America/New_York:20260528T123000
DTEND;TZID=America/New_York:20260528T170000
DTSTAMP:20260424T064027
CREATED:20251208T205128Z
LAST-MODIFIED:20251208T205129Z
UID:10000281-1779971400-1779987600@www.oleanderpointe.com
SUMMARY:Canasta
DESCRIPTION:Canasta\nEvery Thursday in the Card/ Game Room\nFrom 12:30 – 5 PM
URL:https://www.oleanderpointe.com/event/canasta-2/2026-05-28/
LOCATION:Card/Game Room\, 104 Riverside Dr\, Cocoa\, FL\, 32922\, United States
CATEGORIES:Social
ATTACH;FMTTYPE=image/jpeg:https://www.oleanderpointe.com/wp-content/uploads/2025/11/Canasta.jpg
END:VEVENT
BEGIN:VEVENT
DTSTART;TZID=America/New_York:20260604T123000
DTEND;TZID=America/New_York:20260604T170000
DTSTAMP:20260424T064027
CREATED:20251208T205128Z
LAST-MODIFIED:20251208T205129Z
UID:10000282-1780576200-1780592400@www.oleanderpointe.com
SUMMARY:Canasta
DESCRIPTION:Canasta\nEvery Thursday in the Card/ Game Room\nFrom 12:30 – 5 PM
URL:https://www.oleanderpointe.com/event/canasta-2/2026-06-04/
LOCATION:Card/Game Room\, 104 Riverside Dr\, Cocoa\, FL\, 32922\, United States
CATEGORIES:Social
ATTACH;FMTTYPE=image/jpeg:https://www.oleanderpointe.com/wp-content/uploads/2025/11/Canasta.jpg
END:VEVENT
BEGIN:VEVENT
DTSTART;TZID=America/New_York:20260611T123000
DTEND;TZID=America/New_York:20260611T170000
DTSTAMP:20260424T064027
CREATED:20251208T205128Z
LAST-MODIFIED:20251208T205129Z
UID:10000283-1781181000-1781197200@www.oleanderpointe.com
SUMMARY:Canasta
DESCRIPTION:Canasta\nEvery Thursday in the Card/ Game Room\nFrom 12:30 – 5 PM
URL:https://www.oleanderpointe.com/event/canasta-2/2026-06-11/
LOCATION:Card/Game Room\, 104 Riverside Dr\, Cocoa\, FL\, 32922\, United States
CATEGORIES:Social
ATTACH;FMTTYPE=image/jpeg:https://www.oleanderpointe.com/wp-content/uploads/2025/11/Canasta.jpg
END:VEVENT
BEGIN:VEVENT
DTSTART;TZID=America/New_York:20260618T123000
DTEND;TZID=America/New_York:20260618T170000
DTSTAMP:20260424T064027
CREATED:20251208T205128Z
LAST-MODIFIED:20251208T205129Z
UID:10000284-1781785800-1781802000@www.oleanderpointe.com
SUMMARY:Canasta
DESCRIPTION:Canasta\nEvery Thursday in the Card/ Game Room\nFrom 12:30 – 5 PM
URL:https://www.oleanderpointe.com/event/canasta-2/2026-06-18/
LOCATION:Card/Game Room\, 104 Riverside Dr\, Cocoa\, FL\, 32922\, United States
CATEGORIES:Social
ATTACH;FMTTYPE=image/jpeg:https://www.oleanderpointe.com/wp-content/uploads/2025/11/Canasta.jpg
END:VEVENT
BEGIN:VEVENT
DTSTART;TZID=America/New_York:20260625T123000
DTEND;TZID=America/New_York:20260625T170000
DTSTAMP:20260424T064027
CREATED:20251208T205128Z
LAST-MODIFIED:20251208T205129Z
UID:10000285-1782390600-1782406800@www.oleanderpointe.com
SUMMARY:Canasta
DESCRIPTION:Canasta\nEvery Thursday in the Card/ Game Room\nFrom 12:30 – 5 PM
URL:https://www.oleanderpointe.com/event/canasta-2/2026-06-25/
LOCATION:Card/Game Room\, 104 Riverside Dr\, Cocoa\, FL\, 32922\, United States
CATEGORIES:Social
ATTACH;FMTTYPE=image/jpeg:https://www.oleanderpointe.com/wp-content/uploads/2025/11/Canasta.jpg
END:VEVENT
BEGIN:VEVENT
DTSTART;TZID=America/New_York:20260702T123000
DTEND;TZID=America/New_York:20260702T170000
DTSTAMP:20260424T064027
CREATED:20251208T205128Z
LAST-MODIFIED:20251208T205129Z
UID:10000286-1782995400-1783011600@www.oleanderpointe.com
SUMMARY:Canasta
DESCRIPTION:Canasta\nEvery Thursday in the Card/ Game Room\nFrom 12:30 – 5 PM
URL:https://www.oleanderpointe.com/event/canasta-2/2026-07-02/
LOCATION:Card/Game Room\, 104 Riverside Dr\, Cocoa\, FL\, 32922\, United States
CATEGORIES:Social
ATTACH;FMTTYPE=image/jpeg:https://www.oleanderpointe.com/wp-content/uploads/2025/11/Canasta.jpg
END:VEVENT
BEGIN:VEVENT
DTSTART;TZID=America/New_York:20260709T123000
DTEND;TZID=America/New_York:20260709T170000
DTSTAMP:20260424T064027
CREATED:20251208T205128Z
LAST-MODIFIED:20251208T205129Z
UID:10000287-1783600200-1783616400@www.oleanderpointe.com
SUMMARY:Canasta
DESCRIPTION:Canasta\nEvery Thursday in the Card/ Game Room\nFrom 12:30 – 5 PM
URL:https://www.oleanderpointe.com/event/canasta-2/2026-07-09/
LOCATION:Card/Game Room\, 104 Riverside Dr\, Cocoa\, FL\, 32922\, United States
CATEGORIES:Social
ATTACH;FMTTYPE=image/jpeg:https://www.oleanderpointe.com/wp-content/uploads/2025/11/Canasta.jpg
END:VEVENT
BEGIN:VEVENT
DTSTART;TZID=America/New_York:20260716T123000
DTEND;TZID=America/New_York:20260716T170000
DTSTAMP:20260424T064027
CREATED:20251208T205128Z
LAST-MODIFIED:20251208T205129Z
UID:10000288-1784205000-1784221200@www.oleanderpointe.com
SUMMARY:Canasta
DESCRIPTION:Canasta\nEvery Thursday in the Card/ Game Room\nFrom 12:30 – 5 PM
URL:https://www.oleanderpointe.com/event/canasta-2/2026-07-16/
LOCATION:Card/Game Room\, 104 Riverside Dr\, Cocoa\, FL\, 32922\, United States
CATEGORIES:Social
ATTACH;FMTTYPE=image/jpeg:https://www.oleanderpointe.com/wp-content/uploads/2025/11/Canasta.jpg
END:VEVENT
BEGIN:VEVENT
DTSTART;TZID=America/New_York:20260723T123000
DTEND;TZID=America/New_York:20260723T170000
DTSTAMP:20260424T064027
CREATED:20251208T205128Z
LAST-MODIFIED:20251208T205129Z
UID:10000289-1784809800-1784826000@www.oleanderpointe.com
SUMMARY:Canasta
DESCRIPTION:Canasta\nEvery Thursday in the Card/ Game Room\nFrom 12:30 – 5 PM
URL:https://www.oleanderpointe.com/event/canasta-2/2026-07-23/
LOCATION:Card/Game Room\, 104 Riverside Dr\, Cocoa\, FL\, 32922\, United States
CATEGORIES:Social
ATTACH;FMTTYPE=image/jpeg:https://www.oleanderpointe.com/wp-content/uploads/2025/11/Canasta.jpg
END:VEVENT
BEGIN:VEVENT
DTSTART;TZID=America/New_York:20260730T123000
DTEND;TZID=America/New_York:20260730T170000
DTSTAMP:20260424T064027
CREATED:20251208T205128Z
LAST-MODIFIED:20251208T205129Z
UID:10000290-1785414600-1785430800@www.oleanderpointe.com
SUMMARY:Canasta
DESCRIPTION:Canasta\nEvery Thursday in the Card/ Game Room\nFrom 12:30 – 5 PM
URL:https://www.oleanderpointe.com/event/canasta-2/2026-07-30/
LOCATION:Card/Game Room\, 104 Riverside Dr\, Cocoa\, FL\, 32922\, United States
CATEGORIES:Social
ATTACH;FMTTYPE=image/jpeg:https://www.oleanderpointe.com/wp-content/uploads/2025/11/Canasta.jpg
END:VEVENT
BEGIN:VEVENT
DTSTART;TZID=America/New_York:20260806T123000
DTEND;TZID=America/New_York:20260806T170000
DTSTAMP:20260424T064027
CREATED:20251208T205128Z
LAST-MODIFIED:20251208T205129Z
UID:10000291-1786019400-1786035600@www.oleanderpointe.com
SUMMARY:Canasta
DESCRIPTION:Canasta\nEvery Thursday in the Card/ Game Room\nFrom 12:30 – 5 PM
URL:https://www.oleanderpointe.com/event/canasta-2/2026-08-06/
LOCATION:Card/Game Room\, 104 Riverside Dr\, Cocoa\, FL\, 32922\, United States
CATEGORIES:Social
ATTACH;FMTTYPE=image/jpeg:https://www.oleanderpointe.com/wp-content/uploads/2025/11/Canasta.jpg
END:VEVENT
BEGIN:VEVENT
DTSTART;TZID=America/New_York:20260813T123000
DTEND;TZID=America/New_York:20260813T170000
DTSTAMP:20260424T064027
CREATED:20251208T205128Z
LAST-MODIFIED:20251208T205129Z
UID:10000292-1786624200-1786640400@www.oleanderpointe.com
SUMMARY:Canasta
DESCRIPTION:Canasta\nEvery Thursday in the Card/ Game Room\nFrom 12:30 – 5 PM
URL:https://www.oleanderpointe.com/event/canasta-2/2026-08-13/
LOCATION:Card/Game Room\, 104 Riverside Dr\, Cocoa\, FL\, 32922\, United States
CATEGORIES:Social
ATTACH;FMTTYPE=image/jpeg:https://www.oleanderpointe.com/wp-content/uploads/2025/11/Canasta.jpg
END:VEVENT
BEGIN:VEVENT
DTSTART;TZID=America/New_York:20260820T123000
DTEND;TZID=America/New_York:20260820T170000
DTSTAMP:20260424T064027
CREATED:20251208T205128Z
LAST-MODIFIED:20251208T205129Z
UID:10000293-1787229000-1787245200@www.oleanderpointe.com
SUMMARY:Canasta
DESCRIPTION:Canasta\nEvery Thursday in the Card/ Game Room\nFrom 12:30 – 5 PM
URL:https://www.oleanderpointe.com/event/canasta-2/2026-08-20/
LOCATION:Card/Game Room\, 104 Riverside Dr\, Cocoa\, FL\, 32922\, United States
CATEGORIES:Social
ATTACH;FMTTYPE=image/jpeg:https://www.oleanderpointe.com/wp-content/uploads/2025/11/Canasta.jpg
END:VEVENT
BEGIN:VEVENT
DTSTART;TZID=America/New_York:20260827T123000
DTEND;TZID=America/New_York:20260827T170000
DTSTAMP:20260424T064027
CREATED:20251208T205128Z
LAST-MODIFIED:20251208T205129Z
UID:10000294-1787833800-1787850000@www.oleanderpointe.com
SUMMARY:Canasta
DESCRIPTION:Canasta\nEvery Thursday in the Card/ Game Room\nFrom 12:30 – 5 PM
URL:https://www.oleanderpointe.com/event/canasta-2/2026-08-27/
LOCATION:Card/Game Room\, 104 Riverside Dr\, Cocoa\, FL\, 32922\, United States
CATEGORIES:Social
ATTACH;FMTTYPE=image/jpeg:https://www.oleanderpointe.com/wp-content/uploads/2025/11/Canasta.jpg
END:VEVENT
BEGIN:VEVENT
DTSTART;TZID=America/New_York:20260903T123000
DTEND;TZID=America/New_York:20260903T170000
DTSTAMP:20260424T064027
CREATED:20251208T205128Z
LAST-MODIFIED:20251208T205129Z
UID:10000295-1788438600-1788454800@www.oleanderpointe.com
SUMMARY:Canasta
DESCRIPTION:Canasta\nEvery Thursday in the Card/ Game Room\nFrom 12:30 – 5 PM
URL:https://www.oleanderpointe.com/event/canasta-2/2026-09-03/
LOCATION:Card/Game Room\, 104 Riverside Dr\, Cocoa\, FL\, 32922\, United States
CATEGORIES:Social
ATTACH;FMTTYPE=image/jpeg:https://www.oleanderpointe.com/wp-content/uploads/2025/11/Canasta.jpg
END:VEVENT
BEGIN:VEVENT
DTSTART;TZID=America/New_York:20260910T123000
DTEND;TZID=America/New_York:20260910T170000
DTSTAMP:20260424T064027
CREATED:20251208T205128Z
LAST-MODIFIED:20251208T205129Z
UID:10000296-1789043400-1789059600@www.oleanderpointe.com
SUMMARY:Canasta
DESCRIPTION:Canasta\nEvery Thursday in the Card/ Game Room\nFrom 12:30 – 5 PM
URL:https://www.oleanderpointe.com/event/canasta-2/2026-09-10/
LOCATION:Card/Game Room\, 104 Riverside Dr\, Cocoa\, FL\, 32922\, United States
CATEGORIES:Social
ATTACH;FMTTYPE=image/jpeg:https://www.oleanderpointe.com/wp-content/uploads/2025/11/Canasta.jpg
END:VEVENT
BEGIN:VEVENT
DTSTART;TZID=America/New_York:20260917T123000
DTEND;TZID=America/New_York:20260917T170000
DTSTAMP:20260424T064027
CREATED:20251208T205128Z
LAST-MODIFIED:20251208T205129Z
UID:10000297-1789648200-1789664400@www.oleanderpointe.com
SUMMARY:Canasta
DESCRIPTION:Canasta\nEvery Thursday in the Card/ Game Room\nFrom 12:30 – 5 PM
URL:https://www.oleanderpointe.com/event/canasta-2/2026-09-17/
LOCATION:Card/Game Room\, 104 Riverside Dr\, Cocoa\, FL\, 32922\, United States
CATEGORIES:Social
ATTACH;FMTTYPE=image/jpeg:https://www.oleanderpointe.com/wp-content/uploads/2025/11/Canasta.jpg
END:VEVENT
BEGIN:VEVENT
DTSTART;TZID=America/New_York:20260924T123000
DTEND;TZID=America/New_York:20260924T170000
DTSTAMP:20260424T064027
CREATED:20251208T205128Z
LAST-MODIFIED:20251208T205129Z
UID:10000298-1790253000-1790269200@www.oleanderpointe.com
SUMMARY:Canasta
DESCRIPTION:Canasta\nEvery Thursday in the Card/ Game Room\nFrom 12:30 – 5 PM
URL:https://www.oleanderpointe.com/event/canasta-2/2026-09-24/
LOCATION:Card/Game Room\, 104 Riverside Dr\, Cocoa\, FL\, 32922\, United States
CATEGORIES:Social
ATTACH;FMTTYPE=image/jpeg:https://www.oleanderpointe.com/wp-content/uploads/2025/11/Canasta.jpg
END:VEVENT
BEGIN:VEVENT
DTSTART;TZID=America/New_York:20261001T123000
DTEND;TZID=America/New_York:20261001T170000
DTSTAMP:20260424T064027
CREATED:20251208T205128Z
LAST-MODIFIED:20251208T205129Z
UID:10000299-1790857800-1790874000@www.oleanderpointe.com
SUMMARY:Canasta
DESCRIPTION:Canasta\nEvery Thursday in the Card/ Game Room\nFrom 12:30 – 5 PM
URL:https://www.oleanderpointe.com/event/canasta-2/2026-10-01/
LOCATION:Card/Game Room\, 104 Riverside Dr\, Cocoa\, FL\, 32922\, United States
CATEGORIES:Social
ATTACH;FMTTYPE=image/jpeg:https://www.oleanderpointe.com/wp-content/uploads/2025/11/Canasta.jpg
END:VEVENT
BEGIN:VEVENT
DTSTART;TZID=America/New_York:20261008T123000
DTEND;TZID=America/New_York:20261008T170000
DTSTAMP:20260424T064027
CREATED:20251208T205128Z
LAST-MODIFIED:20251208T205129Z
UID:10000300-1791462600-1791478800@www.oleanderpointe.com
SUMMARY:Canasta
DESCRIPTION:Canasta\nEvery Thursday in the Card/ Game Room\nFrom 12:30 – 5 PM
URL:https://www.oleanderpointe.com/event/canasta-2/2026-10-08/
LOCATION:Card/Game Room\, 104 Riverside Dr\, Cocoa\, FL\, 32922\, United States
CATEGORIES:Social
ATTACH;FMTTYPE=image/jpeg:https://www.oleanderpointe.com/wp-content/uploads/2025/11/Canasta.jpg
END:VEVENT
BEGIN:VEVENT
DTSTART;TZID=America/New_York:20261015T123000
DTEND;TZID=America/New_York:20261015T170000
DTSTAMP:20260424T064027
CREATED:20251208T205128Z
LAST-MODIFIED:20251208T205129Z
UID:10000301-1792067400-1792083600@www.oleanderpointe.com
SUMMARY:Canasta
DESCRIPTION:Canasta\nEvery Thursday in the Card/ Game Room\nFrom 12:30 – 5 PM
URL:https://www.oleanderpointe.com/event/canasta-2/2026-10-15/
LOCATION:Card/Game Room\, 104 Riverside Dr\, Cocoa\, FL\, 32922\, United States
CATEGORIES:Social
ATTACH;FMTTYPE=image/jpeg:https://www.oleanderpointe.com/wp-content/uploads/2025/11/Canasta.jpg
END:VEVENT
BEGIN:VEVENT
DTSTART;TZID=America/New_York:20261022T123000
DTEND;TZID=America/New_York:20261022T170000
DTSTAMP:20260424T064027
CREATED:20251208T205128Z
LAST-MODIFIED:20251208T205129Z
UID:10000302-1792672200-1792688400@www.oleanderpointe.com
SUMMARY:Canasta
DESCRIPTION:Canasta\nEvery Thursday in the Card/ Game Room\nFrom 12:30 – 5 PM
URL:https://www.oleanderpointe.com/event/canasta-2/2026-10-22/
LOCATION:Card/Game Room\, 104 Riverside Dr\, Cocoa\, FL\, 32922\, United States
CATEGORIES:Social
ATTACH;FMTTYPE=image/jpeg:https://www.oleanderpointe.com/wp-content/uploads/2025/11/Canasta.jpg
END:VEVENT
BEGIN:VEVENT
DTSTART;TZID=America/New_York:20261029T123000
DTEND;TZID=America/New_York:20261029T170000
DTSTAMP:20260424T064027
CREATED:20251208T205128Z
LAST-MODIFIED:20251208T205129Z
UID:10000303-1793277000-1793293200@www.oleanderpointe.com
SUMMARY:Canasta
DESCRIPTION:Canasta\nEvery Thursday in the Card/ Game Room\nFrom 12:30 – 5 PM
URL:https://www.oleanderpointe.com/event/canasta-2/2026-10-29/
LOCATION:Card/Game Room\, 104 Riverside Dr\, Cocoa\, FL\, 32922\, United States
CATEGORIES:Social
ATTACH;FMTTYPE=image/jpeg:https://www.oleanderpointe.com/wp-content/uploads/2025/11/Canasta.jpg
END:VEVENT
BEGIN:VEVENT
DTSTART;TZID=America/New_York:20261105T123000
DTEND;TZID=America/New_York:20261105T170000
DTSTAMP:20260424T064027
CREATED:20251208T205128Z
LAST-MODIFIED:20251208T205129Z
UID:10000304-1793881800-1793898000@www.oleanderpointe.com
SUMMARY:Canasta
DESCRIPTION:Canasta\nEvery Thursday in the Card/ Game Room\nFrom 12:30 – 5 PM
URL:https://www.oleanderpointe.com/event/canasta-2/2026-11-05/
LOCATION:Card/Game Room\, 104 Riverside Dr\, Cocoa\, FL\, 32922\, United States
CATEGORIES:Social
ATTACH;FMTTYPE=image/jpeg:https://www.oleanderpointe.com/wp-content/uploads/2025/11/Canasta.jpg
END:VEVENT
BEGIN:VEVENT
DTSTART;TZID=America/New_York:20261112T123000
DTEND;TZID=America/New_York:20261112T170000
DTSTAMP:20260424T064027
CREATED:20251208T205128Z
LAST-MODIFIED:20251208T205129Z
UID:10000305-1794486600-1794502800@www.oleanderpointe.com
SUMMARY:Canasta
DESCRIPTION:Canasta\nEvery Thursday in the Card/ Game Room\nFrom 12:30 – 5 PM
URL:https://www.oleanderpointe.com/event/canasta-2/2026-11-12/
LOCATION:Card/Game Room\, 104 Riverside Dr\, Cocoa\, FL\, 32922\, United States
CATEGORIES:Social
ATTACH;FMTTYPE=image/jpeg:https://www.oleanderpointe.com/wp-content/uploads/2025/11/Canasta.jpg
END:VEVENT
BEGIN:VEVENT
DTSTART;TZID=America/New_York:20261119T123000
DTEND;TZID=America/New_York:20261119T170000
DTSTAMP:20260424T064027
CREATED:20251208T205128Z
LAST-MODIFIED:20251208T205129Z
UID:10000306-1795091400-1795107600@www.oleanderpointe.com
SUMMARY:Canasta
DESCRIPTION:Canasta\nEvery Thursday in the Card/ Game Room\nFrom 12:30 – 5 PM
URL:https://www.oleanderpointe.com/event/canasta-2/2026-11-19/
LOCATION:Card/Game Room\, 104 Riverside Dr\, Cocoa\, FL\, 32922\, United States
CATEGORIES:Social
ATTACH;FMTTYPE=image/jpeg:https://www.oleanderpointe.com/wp-content/uploads/2025/11/Canasta.jpg
END:VEVENT
END:VCALENDAR