BEGIN:VCALENDAR
VERSION:2.0
PRODID:-//Oleander Pointe Condominium Association - ECPv6.15.20//NONSGML v1.0//EN
CALSCALE:GREGORIAN
METHOD:PUBLISH
X-ORIGINAL-URL:https://www.oleanderpointe.com
X-WR-CALDESC:Events for Oleander Pointe Condominium Association
REFRESH-INTERVAL;VALUE=DURATION:PT1H
X-Robots-Tag:noindex
X-PUBLISHED-TTL:PT1H
BEGIN:VTIMEZONE
TZID:America/New_York
BEGIN:DAYLIGHT
TZOFFSETFROM:-0500
TZOFFSETTO:-0400
TZNAME:EDT
DTSTART:20250309T070000
END:DAYLIGHT
BEGIN:STANDARD
TZOFFSETFROM:-0400
TZOFFSETTO:-0500
TZNAME:EST
DTSTART:20251102T060000
END:STANDARD
BEGIN:DAYLIGHT
TZOFFSETFROM:-0500
TZOFFSETTO:-0400
TZNAME:EDT
DTSTART:20260308T070000
END:DAYLIGHT
BEGIN:STANDARD
TZOFFSETFROM:-0400
TZOFFSETTO:-0500
TZNAME:EST
DTSTART:20261101T060000
END:STANDARD
BEGIN:DAYLIGHT
TZOFFSETFROM:-0500
TZOFFSETTO:-0400
TZNAME:EDT
DTSTART:20270314T070000
END:DAYLIGHT
BEGIN:STANDARD
TZOFFSETFROM:-0400
TZOFFSETTO:-0500
TZNAME:EST
DTSTART:20271107T060000
END:STANDARD
END:VTIMEZONE
BEGIN:VEVENT
DTSTART;TZID=America/New_York:20260806T123000
DTEND;TZID=America/New_York:20260806T170000
DTSTAMP:20260424T113307
CREATED:20251208T205128Z
LAST-MODIFIED:20251208T205129Z
UID:10000291-1786019400-1786035600@www.oleanderpointe.com
SUMMARY:Canasta
DESCRIPTION:Canasta\nEvery Thursday in the Card/ Game Room\nFrom 12:30 – 5 PM
URL:https://www.oleanderpointe.com/event/canasta-2/2026-08-06/
LOCATION:Card/Game Room\, 104 Riverside Dr\, Cocoa\, FL\, 32922\, United States
CATEGORIES:Social
ATTACH;FMTTYPE=image/jpeg:https://www.oleanderpointe.com/wp-content/uploads/2025/11/Canasta.jpg
END:VEVENT
BEGIN:VEVENT
DTSTART;TZID=America/New_York:20260813T123000
DTEND;TZID=America/New_York:20260813T170000
DTSTAMP:20260424T113307
CREATED:20251208T205128Z
LAST-MODIFIED:20251208T205129Z
UID:10000292-1786624200-1786640400@www.oleanderpointe.com
SUMMARY:Canasta
DESCRIPTION:Canasta\nEvery Thursday in the Card/ Game Room\nFrom 12:30 – 5 PM
URL:https://www.oleanderpointe.com/event/canasta-2/2026-08-13/
LOCATION:Card/Game Room\, 104 Riverside Dr\, Cocoa\, FL\, 32922\, United States
CATEGORIES:Social
ATTACH;FMTTYPE=image/jpeg:https://www.oleanderpointe.com/wp-content/uploads/2025/11/Canasta.jpg
END:VEVENT
BEGIN:VEVENT
DTSTART;TZID=America/New_York:20260820T123000
DTEND;TZID=America/New_York:20260820T170000
DTSTAMP:20260424T113307
CREATED:20251208T205128Z
LAST-MODIFIED:20251208T205129Z
UID:10000293-1787229000-1787245200@www.oleanderpointe.com
SUMMARY:Canasta
DESCRIPTION:Canasta\nEvery Thursday in the Card/ Game Room\nFrom 12:30 – 5 PM
URL:https://www.oleanderpointe.com/event/canasta-2/2026-08-20/
LOCATION:Card/Game Room\, 104 Riverside Dr\, Cocoa\, FL\, 32922\, United States
CATEGORIES:Social
ATTACH;FMTTYPE=image/jpeg:https://www.oleanderpointe.com/wp-content/uploads/2025/11/Canasta.jpg
END:VEVENT
BEGIN:VEVENT
DTSTART;TZID=America/New_York:20260827T123000
DTEND;TZID=America/New_York:20260827T170000
DTSTAMP:20260424T113307
CREATED:20251208T205128Z
LAST-MODIFIED:20251208T205129Z
UID:10000294-1787833800-1787850000@www.oleanderpointe.com
SUMMARY:Canasta
DESCRIPTION:Canasta\nEvery Thursday in the Card/ Game Room\nFrom 12:30 – 5 PM
URL:https://www.oleanderpointe.com/event/canasta-2/2026-08-27/
LOCATION:Card/Game Room\, 104 Riverside Dr\, Cocoa\, FL\, 32922\, United States
CATEGORIES:Social
ATTACH;FMTTYPE=image/jpeg:https://www.oleanderpointe.com/wp-content/uploads/2025/11/Canasta.jpg
END:VEVENT
END:VCALENDAR