BEGIN:VCALENDAR
VERSION:2.0
PRODID:-//Oleander Pointe Condominium Association - ECPv6.15.20//NONSGML v1.0//EN
CALSCALE:GREGORIAN
METHOD:PUBLISH
X-WR-CALNAME:Oleander Pointe Condominium Association
X-ORIGINAL-URL:https://www.oleanderpointe.com
X-WR-CALDESC:Events for Oleander Pointe Condominium Association
REFRESH-INTERVAL;VALUE=DURATION:PT1H
X-Robots-Tag:noindex
X-PUBLISHED-TTL:PT1H
BEGIN:VTIMEZONE
TZID:America/New_York
BEGIN:DAYLIGHT
TZOFFSETFROM:-0500
TZOFFSETTO:-0400
TZNAME:EDT
DTSTART:20240310T070000
END:DAYLIGHT
BEGIN:STANDARD
TZOFFSETFROM:-0400
TZOFFSETTO:-0500
TZNAME:EST
DTSTART:20241103T060000
END:STANDARD
BEGIN:DAYLIGHT
TZOFFSETFROM:-0500
TZOFFSETTO:-0400
TZNAME:EDT
DTSTART:20250309T070000
END:DAYLIGHT
BEGIN:STANDARD
TZOFFSETFROM:-0400
TZOFFSETTO:-0500
TZNAME:EST
DTSTART:20251102T060000
END:STANDARD
BEGIN:DAYLIGHT
TZOFFSETFROM:-0500
TZOFFSETTO:-0400
TZNAME:EDT
DTSTART:20260308T070000
END:DAYLIGHT
BEGIN:STANDARD
TZOFFSETFROM:-0400
TZOFFSETTO:-0500
TZNAME:EST
DTSTART:20261101T060000
END:STANDARD
BEGIN:DAYLIGHT
TZOFFSETFROM:-0500
TZOFFSETTO:-0400
TZNAME:EDT
DTSTART:20270314T070000
END:DAYLIGHT
BEGIN:STANDARD
TZOFFSETFROM:-0400
TZOFFSETTO:-0500
TZNAME:EST
DTSTART:20271107T060000
END:STANDARD
END:VTIMEZONE
BEGIN:VEVENT
DTSTART;TZID=America/New_York:20260222T160000
DTEND;TZID=America/New_York:20260222T180000
DTSTAMP:20260421T131217
CREATED:20260106T192416Z
LAST-MODIFIED:20260106T192416Z
UID:10000326-1771776000-1771783200@www.oleanderpointe.com
SUMMARY:Happy Hour Sundays!
DESCRIPTION:Sunday Happy Hour –\nLast Sunday of every month from 4:00 PM to 6:00 PM\nAll Are Invited\nBring a snack to share.
URL:https://www.oleanderpointe.com/event/happy-hour-sundays-2/2026-02-22/
LOCATION:Brevard Room\, 104 Riverside Dr\, Cocoa\, FL\, 32922\, United States
CATEGORIES:Social
ATTACH;FMTTYPE=image/jpeg:https://www.oleanderpointe.com/wp-content/uploads/2025/11/happy_hour_w_logo.jpg
END:VEVENT
BEGIN:VEVENT
DTSTART;TZID=America/New_York:20260221T080000
DTEND;TZID=America/New_York:20260221T130000
DTSTAMP:20260421T131217
CREATED:20260212T202554Z
LAST-MODIFIED:20260212T202554Z
UID:10000362-1771660800-1771678800@www.oleanderpointe.com
SUMMARY:Multi-Family Garage Sale 2-21-26
DESCRIPTION:Multi-Family Garage Sale\nSaturday\, 2/21/26\, 8am-1pm\nOleander Pointe\n100 Riverside Drive\, Cocoa\, 32922\nNo early birds!\nItems available: Girl’s designer dresses By Stella\nCamping\, household\, pet\, holiday decorations\nEstate items\, Closet mirror doors\nBikes\, Walking golf carts\, Golf clubs\n\nREMINDERS:   \n\nMust Have vehicles cleared out from under tennis court by 3pm Friday 20th\nNo car washing by the buildings or under tennis court Saturday before or during the Sale \nDonate your unsold items to: \n\nCommunity Woman’s Club back door\, 5 Rosa Jones Drive\nCall Chris for info 321-693-2491
URL:https://www.oleanderpointe.com/event/multi-family-garage-sale-2-21-26/
LOCATION:Oleander Pointe\, 100 Riverside Drive\, Cocoa\, FL\, 32922\, United States
CATEGORIES:Social
ATTACH;FMTTYPE=image/jpeg:https://www.oleanderpointe.com/wp-content/uploads/2026/02/Garage_sale.jpg
END:VEVENT
BEGIN:VEVENT
DTSTART;TZID=America/New_York:20260219T140000
DTEND;TZID=America/New_York:20260219T160000
DTSTAMP:20260421T131217
CREATED:20251121T210707Z
LAST-MODIFIED:20251121T210707Z
UID:10000212-1771509600-1771516800@www.oleanderpointe.com
SUMMARY:Ukulele Group
DESCRIPTION:Ukulele Group\nEvery Thursday in the Brevard Room\nFrom 2 – 4 PM
URL:https://www.oleanderpointe.com/event/ukulele-group/2026-02-19/
LOCATION:Brevard Room\, 104 Riverside Dr\, Cocoa\, FL\, 32922\, United States
CATEGORIES:Social
ATTACH;FMTTYPE=image/jpeg:https://www.oleanderpointe.com/wp-content/uploads/2025/11/Ukulele.jpg
END:VEVENT
BEGIN:VEVENT
DTSTART;TZID=America/New_York:20260219T123000
DTEND;TZID=America/New_York:20260219T170000
DTSTAMP:20260421T131217
CREATED:20251208T205128Z
LAST-MODIFIED:20251208T205129Z
UID:10000267-1771504200-1771520400@www.oleanderpointe.com
SUMMARY:Canasta
DESCRIPTION:Canasta\nEvery Thursday in the Card/ Game Room\nFrom 12:30 – 5 PM
URL:https://www.oleanderpointe.com/event/canasta-2/2026-02-19/
LOCATION:Card/Game Room\, 104 Riverside Dr\, Cocoa\, FL\, 32922\, United States
CATEGORIES:Social
ATTACH;FMTTYPE=image/jpeg:https://www.oleanderpointe.com/wp-content/uploads/2025/11/Canasta.jpg
END:VEVENT
BEGIN:VEVENT
DTSTART;TZID=America/New_York:20260216T130000
DTEND;TZID=America/New_York:20260216T170000
DTSTAMP:20260421T131217
CREATED:20251121T205551Z
LAST-MODIFIED:20251121T205551Z
UID:10000095-1771246800-1771261200@www.oleanderpointe.com
SUMMARY:Mahjong
DESCRIPTION:Mahjong\nEvery Monday in the Card/ Game Room\nFrom 1 – 5 PM
URL:https://www.oleanderpointe.com/event/mahjong/2026-02-16/
LOCATION:Card/Game Room\, 104 Riverside Dr\, Cocoa\, FL\, 32922\, United States
CATEGORIES:Social
ATTACH;FMTTYPE=image/jpeg:https://www.oleanderpointe.com/wp-content/uploads/2025/11/Mahjong.jpg
END:VEVENT
BEGIN:VEVENT
DTSTART;TZID=America/New_York:20260212T170000
DTEND;TZID=America/New_York:20260212T190000
DTSTAMP:20260421T131217
CREATED:20251104T200903Z
LAST-MODIFIED:20251105T185427Z
UID:10000019-1770915600-1770922800@www.oleanderpointe.com
SUMMARY:Happy Hour Thursdays!
DESCRIPTION:Happy Hour!\n5-7 PM  in  the Brevard Room\nAll Are Invited\nHappy Hours is Held Every Second Thursday and Last Sunday of the MonthPlease Bring a Snack to Share
URL:https://www.oleanderpointe.com/event/happy-hour/2026-02-12/
LOCATION:Brevard Room\, 104 Riverside Dr\, Cocoa\, FL\, 32922\, United States
CATEGORIES:Social
ATTACH;FMTTYPE=image/jpeg:https://www.oleanderpointe.com/wp-content/uploads/2025/11/happy_hour_w_logo.jpg
END:VEVENT
BEGIN:VEVENT
DTSTART;TZID=America/New_York:20260212T140000
DTEND;TZID=America/New_York:20260212T160000
DTSTAMP:20260421T131217
CREATED:20251121T210707Z
LAST-MODIFIED:20251121T210707Z
UID:10000211-1770904800-1770912000@www.oleanderpointe.com
SUMMARY:Ukulele Group
DESCRIPTION:Ukulele Group\nEvery Thursday in the Brevard Room\nFrom 2 – 4 PM
URL:https://www.oleanderpointe.com/event/ukulele-group/2026-02-12/
LOCATION:Brevard Room\, 104 Riverside Dr\, Cocoa\, FL\, 32922\, United States
CATEGORIES:Social
ATTACH;FMTTYPE=image/jpeg:https://www.oleanderpointe.com/wp-content/uploads/2025/11/Ukulele.jpg
END:VEVENT
BEGIN:VEVENT
DTSTART;TZID=America/New_York:20260212T123000
DTEND;TZID=America/New_York:20260212T170000
DTSTAMP:20260421T131217
CREATED:20251208T205128Z
LAST-MODIFIED:20251208T205129Z
UID:10000266-1770899400-1770915600@www.oleanderpointe.com
SUMMARY:Canasta
DESCRIPTION:Canasta\nEvery Thursday in the Card/ Game Room\nFrom 12:30 – 5 PM
URL:https://www.oleanderpointe.com/event/canasta-2/2026-02-12/
LOCATION:Card/Game Room\, 104 Riverside Dr\, Cocoa\, FL\, 32922\, United States
CATEGORIES:Social
ATTACH;FMTTYPE=image/jpeg:https://www.oleanderpointe.com/wp-content/uploads/2025/11/Canasta.jpg
END:VEVENT
BEGIN:VEVENT
DTSTART;TZID=America/New_York:20260209T130000
DTEND;TZID=America/New_York:20260209T170000
DTSTAMP:20260421T131217
CREATED:20251121T205551Z
LAST-MODIFIED:20251121T205551Z
UID:10000094-1770642000-1770656400@www.oleanderpointe.com
SUMMARY:Mahjong
DESCRIPTION:Mahjong\nEvery Monday in the Card/ Game Room\nFrom 1 – 5 PM
URL:https://www.oleanderpointe.com/event/mahjong/2026-02-09/
LOCATION:Card/Game Room\, 104 Riverside Dr\, Cocoa\, FL\, 32922\, United States
CATEGORIES:Social
ATTACH;FMTTYPE=image/jpeg:https://www.oleanderpointe.com/wp-content/uploads/2025/11/Mahjong.jpg
END:VEVENT
BEGIN:VEVENT
DTSTART;TZID=America/New_York:20260208T173000
DTEND;TZID=America/New_York:20260208T220000
DTSTAMP:20260421T131217
CREATED:20260106T192735Z
LAST-MODIFIED:20260106T193626Z
UID:10000353-1770571800-1770588000@www.oleanderpointe.com
SUMMARY:Superbowl Party Happy Hour
DESCRIPTION:Superbowl Party Happy Hour\nStarts at 5:30  in  the Brevard Room\nBring a Super Snack to share.
URL:https://www.oleanderpointe.com/event/superbowl-party-happy-hour-2/
LOCATION:Brevard Room\, 104 Riverside Dr\, Cocoa\, FL\, 32922\, United States
CATEGORIES:Social
ATTACH;FMTTYPE=image/jpeg:https://www.oleanderpointe.com/wp-content/uploads/2025/11/happy_hour_w_logo.jpg
END:VEVENT
BEGIN:VEVENT
DTSTART;TZID=America/New_York:20260205T140000
DTEND;TZID=America/New_York:20260205T160000
DTSTAMP:20260421T131217
CREATED:20251121T210707Z
LAST-MODIFIED:20251121T210707Z
UID:10000210-1770300000-1770307200@www.oleanderpointe.com
SUMMARY:Ukulele Group
DESCRIPTION:Ukulele Group\nEvery Thursday in the Brevard Room\nFrom 2 – 4 PM
URL:https://www.oleanderpointe.com/event/ukulele-group/2026-02-05/
LOCATION:Brevard Room\, 104 Riverside Dr\, Cocoa\, FL\, 32922\, United States
CATEGORIES:Social
ATTACH;FMTTYPE=image/jpeg:https://www.oleanderpointe.com/wp-content/uploads/2025/11/Ukulele.jpg
END:VEVENT
BEGIN:VEVENT
DTSTART;TZID=America/New_York:20260205T123000
DTEND;TZID=America/New_York:20260205T170000
DTSTAMP:20260421T131217
CREATED:20251208T205128Z
LAST-MODIFIED:20251208T205129Z
UID:10000265-1770294600-1770310800@www.oleanderpointe.com
SUMMARY:Canasta
DESCRIPTION:Canasta\nEvery Thursday in the Card/ Game Room\nFrom 12:30 – 5 PM
URL:https://www.oleanderpointe.com/event/canasta-2/2026-02-05/
LOCATION:Card/Game Room\, 104 Riverside Dr\, Cocoa\, FL\, 32922\, United States
CATEGORIES:Social
ATTACH;FMTTYPE=image/jpeg:https://www.oleanderpointe.com/wp-content/uploads/2025/11/Canasta.jpg
END:VEVENT
BEGIN:VEVENT
DTSTART;TZID=America/New_York:20260202T130000
DTEND;TZID=America/New_York:20260202T170000
DTSTAMP:20260421T131217
CREATED:20251121T205551Z
LAST-MODIFIED:20251121T205551Z
UID:10000093-1770037200-1770051600@www.oleanderpointe.com
SUMMARY:Mahjong
DESCRIPTION:Mahjong\nEvery Monday in the Card/ Game Room\nFrom 1 – 5 PM
URL:https://www.oleanderpointe.com/event/mahjong/2026-02-02/
LOCATION:Card/Game Room\, 104 Riverside Dr\, Cocoa\, FL\, 32922\, United States
CATEGORIES:Social
ATTACH;FMTTYPE=image/jpeg:https://www.oleanderpointe.com/wp-content/uploads/2025/11/Mahjong.jpg
END:VEVENT
BEGIN:VEVENT
DTSTART;TZID=America/New_York:20260129T140000
DTEND;TZID=America/New_York:20260129T160000
DTSTAMP:20260421T131217
CREATED:20251121T210707Z
LAST-MODIFIED:20251121T210707Z
UID:10000209-1769695200-1769702400@www.oleanderpointe.com
SUMMARY:Ukulele Group
DESCRIPTION:Ukulele Group\nEvery Thursday in the Brevard Room\nFrom 2 – 4 PM
URL:https://www.oleanderpointe.com/event/ukulele-group/2026-01-29/
LOCATION:Brevard Room\, 104 Riverside Dr\, Cocoa\, FL\, 32922\, United States
CATEGORIES:Social
ATTACH;FMTTYPE=image/jpeg:https://www.oleanderpointe.com/wp-content/uploads/2025/11/Ukulele.jpg
END:VEVENT
BEGIN:VEVENT
DTSTART;TZID=America/New_York:20260129T123000
DTEND;TZID=America/New_York:20260129T170000
DTSTAMP:20260421T131217
CREATED:20251208T205128Z
LAST-MODIFIED:20251208T205129Z
UID:10000264-1769689800-1769706000@www.oleanderpointe.com
SUMMARY:Canasta
DESCRIPTION:Canasta\nEvery Thursday in the Card/ Game Room\nFrom 12:30 – 5 PM
URL:https://www.oleanderpointe.com/event/canasta-2/2026-01-29/
LOCATION:Card/Game Room\, 104 Riverside Dr\, Cocoa\, FL\, 32922\, United States
CATEGORIES:Social
ATTACH;FMTTYPE=image/jpeg:https://www.oleanderpointe.com/wp-content/uploads/2025/11/Canasta.jpg
END:VEVENT
BEGIN:VEVENT
DTSTART;TZID=America/New_York:20260126T130000
DTEND;TZID=America/New_York:20260126T170000
DTSTAMP:20260421T131217
CREATED:20251121T205551Z
LAST-MODIFIED:20251121T205551Z
UID:10000092-1769432400-1769446800@www.oleanderpointe.com
SUMMARY:Mahjong
DESCRIPTION:Mahjong\nEvery Monday in the Card/ Game Room\nFrom 1 – 5 PM
URL:https://www.oleanderpointe.com/event/mahjong/2026-01-26/
LOCATION:Card/Game Room\, 104 Riverside Dr\, Cocoa\, FL\, 32922\, United States
CATEGORIES:Social
ATTACH;FMTTYPE=image/jpeg:https://www.oleanderpointe.com/wp-content/uploads/2025/11/Mahjong.jpg
END:VEVENT
BEGIN:VEVENT
DTSTART;TZID=America/New_York:20260125T160000
DTEND;TZID=America/New_York:20260125T180000
DTSTAMP:20260421T131217
CREATED:20260106T192416Z
LAST-MODIFIED:20260106T192416Z
UID:10000325-1769356800-1769364000@www.oleanderpointe.com
SUMMARY:Happy Hour Sundays!
DESCRIPTION:Sunday Happy Hour –\nLast Sunday of every month from 4:00 PM to 6:00 PM\nAll Are Invited\nBring a snack to share.
URL:https://www.oleanderpointe.com/event/happy-hour-sundays-2/2026-01-25/
LOCATION:Brevard Room\, 104 Riverside Dr\, Cocoa\, FL\, 32922\, United States
CATEGORIES:Social
ATTACH;FMTTYPE=image/jpeg:https://www.oleanderpointe.com/wp-content/uploads/2025/11/happy_hour_w_logo.jpg
END:VEVENT
BEGIN:VEVENT
DTSTART;TZID=America/New_York:20260122T140000
DTEND;TZID=America/New_York:20260122T160000
DTSTAMP:20260421T131217
CREATED:20251121T210707Z
LAST-MODIFIED:20251121T210707Z
UID:10000208-1769090400-1769097600@www.oleanderpointe.com
SUMMARY:Ukulele Group
DESCRIPTION:Ukulele Group\nEvery Thursday in the Brevard Room\nFrom 2 – 4 PM
URL:https://www.oleanderpointe.com/event/ukulele-group/2026-01-22/
LOCATION:Brevard Room\, 104 Riverside Dr\, Cocoa\, FL\, 32922\, United States
CATEGORIES:Social
ATTACH;FMTTYPE=image/jpeg:https://www.oleanderpointe.com/wp-content/uploads/2025/11/Ukulele.jpg
END:VEVENT
BEGIN:VEVENT
DTSTART;TZID=America/New_York:20260122T123000
DTEND;TZID=America/New_York:20260122T170000
DTSTAMP:20260421T131217
CREATED:20251208T205128Z
LAST-MODIFIED:20251208T205129Z
UID:10000263-1769085000-1769101200@www.oleanderpointe.com
SUMMARY:Canasta
DESCRIPTION:Canasta\nEvery Thursday in the Card/ Game Room\nFrom 12:30 – 5 PM
URL:https://www.oleanderpointe.com/event/canasta-2/2026-01-22/
LOCATION:Card/Game Room\, 104 Riverside Dr\, Cocoa\, FL\, 32922\, United States
CATEGORIES:Social
ATTACH;FMTTYPE=image/jpeg:https://www.oleanderpointe.com/wp-content/uploads/2025/11/Canasta.jpg
END:VEVENT
BEGIN:VEVENT
DTSTART;TZID=America/New_York:20260119T130000
DTEND;TZID=America/New_York:20260119T170000
DTSTAMP:20260421T131217
CREATED:20251121T205551Z
LAST-MODIFIED:20251121T205551Z
UID:10000091-1768827600-1768842000@www.oleanderpointe.com
SUMMARY:Mahjong
DESCRIPTION:Mahjong\nEvery Monday in the Card/ Game Room\nFrom 1 – 5 PM
URL:https://www.oleanderpointe.com/event/mahjong/2026-01-19/
LOCATION:Card/Game Room\, 104 Riverside Dr\, Cocoa\, FL\, 32922\, United States
CATEGORIES:Social
ATTACH;FMTTYPE=image/jpeg:https://www.oleanderpointe.com/wp-content/uploads/2025/11/Mahjong.jpg
END:VEVENT
BEGIN:VEVENT
DTSTART;TZID=America/New_York:20260115T140000
DTEND;TZID=America/New_York:20260115T160000
DTSTAMP:20260421T131217
CREATED:20251121T210707Z
LAST-MODIFIED:20251121T210707Z
UID:10000207-1768485600-1768492800@www.oleanderpointe.com
SUMMARY:Ukulele Group
DESCRIPTION:Ukulele Group\nEvery Thursday in the Brevard Room\nFrom 2 – 4 PM
URL:https://www.oleanderpointe.com/event/ukulele-group/2026-01-15/
LOCATION:Brevard Room\, 104 Riverside Dr\, Cocoa\, FL\, 32922\, United States
CATEGORIES:Social
ATTACH;FMTTYPE=image/jpeg:https://www.oleanderpointe.com/wp-content/uploads/2025/11/Ukulele.jpg
END:VEVENT
BEGIN:VEVENT
DTSTART;TZID=America/New_York:20260115T123000
DTEND;TZID=America/New_York:20260115T170000
DTSTAMP:20260421T131217
CREATED:20251208T205128Z
LAST-MODIFIED:20251208T205129Z
UID:10000262-1768480200-1768496400@www.oleanderpointe.com
SUMMARY:Canasta
DESCRIPTION:Canasta\nEvery Thursday in the Card/ Game Room\nFrom 12:30 – 5 PM
URL:https://www.oleanderpointe.com/event/canasta-2/2026-01-15/
LOCATION:Card/Game Room\, 104 Riverside Dr\, Cocoa\, FL\, 32922\, United States
CATEGORIES:Social
ATTACH;FMTTYPE=image/jpeg:https://www.oleanderpointe.com/wp-content/uploads/2025/11/Canasta.jpg
END:VEVENT
BEGIN:VEVENT
DTSTART;TZID=America/New_York:20260112T130000
DTEND;TZID=America/New_York:20260112T170000
DTSTAMP:20260421T131217
CREATED:20251121T205551Z
LAST-MODIFIED:20251121T205551Z
UID:10000090-1768222800-1768237200@www.oleanderpointe.com
SUMMARY:Mahjong
DESCRIPTION:Mahjong\nEvery Monday in the Card/ Game Room\nFrom 1 – 5 PM
URL:https://www.oleanderpointe.com/event/mahjong/2026-01-12/
LOCATION:Card/Game Room\, 104 Riverside Dr\, Cocoa\, FL\, 32922\, United States
CATEGORIES:Social
ATTACH;FMTTYPE=image/jpeg:https://www.oleanderpointe.com/wp-content/uploads/2025/11/Mahjong.jpg
END:VEVENT
BEGIN:VEVENT
DTSTART;TZID=America/New_York:20260108T170000
DTEND;TZID=America/New_York:20260108T190000
DTSTAMP:20260421T131217
CREATED:20251104T200903Z
LAST-MODIFIED:20251105T185427Z
UID:10000014-1767891600-1767898800@www.oleanderpointe.com
SUMMARY:Happy Hour Thursdays!
DESCRIPTION:Happy Hour!\n5-7 PM  in  the Brevard Room\nAll Are Invited\nHappy Hours is Held Every Second Thursday and Last Sunday of the MonthPlease Bring a Snack to Share
URL:https://www.oleanderpointe.com/event/happy-hour/2026-01-08/
LOCATION:Brevard Room\, 104 Riverside Dr\, Cocoa\, FL\, 32922\, United States
CATEGORIES:Social
ATTACH;FMTTYPE=image/jpeg:https://www.oleanderpointe.com/wp-content/uploads/2025/11/happy_hour_w_logo.jpg
END:VEVENT
BEGIN:VEVENT
DTSTART;TZID=America/New_York:20260108T140000
DTEND;TZID=America/New_York:20260108T160000
DTSTAMP:20260421T131217
CREATED:20251121T210707Z
LAST-MODIFIED:20251121T210707Z
UID:10000206-1767880800-1767888000@www.oleanderpointe.com
SUMMARY:Ukulele Group
DESCRIPTION:Ukulele Group\nEvery Thursday in the Brevard Room\nFrom 2 – 4 PM
URL:https://www.oleanderpointe.com/event/ukulele-group/2026-01-08/
LOCATION:Brevard Room\, 104 Riverside Dr\, Cocoa\, FL\, 32922\, United States
CATEGORIES:Social
ATTACH;FMTTYPE=image/jpeg:https://www.oleanderpointe.com/wp-content/uploads/2025/11/Ukulele.jpg
END:VEVENT
BEGIN:VEVENT
DTSTART;TZID=America/New_York:20260108T123000
DTEND;TZID=America/New_York:20260108T170000
DTSTAMP:20260421T131217
CREATED:20251208T205128Z
LAST-MODIFIED:20251208T205129Z
UID:10000261-1767875400-1767891600@www.oleanderpointe.com
SUMMARY:Canasta
DESCRIPTION:Canasta\nEvery Thursday in the Card/ Game Room\nFrom 12:30 – 5 PM
URL:https://www.oleanderpointe.com/event/canasta-2/2026-01-08/
LOCATION:Card/Game Room\, 104 Riverside Dr\, Cocoa\, FL\, 32922\, United States
CATEGORIES:Social
ATTACH;FMTTYPE=image/jpeg:https://www.oleanderpointe.com/wp-content/uploads/2025/11/Canasta.jpg
END:VEVENT
BEGIN:VEVENT
DTSTART;TZID=America/New_York:20260105T130000
DTEND;TZID=America/New_York:20260105T170000
DTSTAMP:20260421T131217
CREATED:20251121T205551Z
LAST-MODIFIED:20251121T205551Z
UID:10000089-1767618000-1767632400@www.oleanderpointe.com
SUMMARY:Mahjong
DESCRIPTION:Mahjong\nEvery Monday in the Card/ Game Room\nFrom 1 – 5 PM
URL:https://www.oleanderpointe.com/event/mahjong/2026-01-05/
LOCATION:Card/Game Room\, 104 Riverside Dr\, Cocoa\, FL\, 32922\, United States
CATEGORIES:Social
ATTACH;FMTTYPE=image/jpeg:https://www.oleanderpointe.com/wp-content/uploads/2025/11/Mahjong.jpg
END:VEVENT
BEGIN:VEVENT
DTSTART;TZID=America/New_York:20260101T140000
DTEND;TZID=America/New_York:20260101T160000
DTSTAMP:20260421T131217
CREATED:20251121T210707Z
LAST-MODIFIED:20251121T210707Z
UID:10000205-1767276000-1767283200@www.oleanderpointe.com
SUMMARY:Ukulele Group
DESCRIPTION:Ukulele Group\nEvery Thursday in the Brevard Room\nFrom 2 – 4 PM
URL:https://www.oleanderpointe.com/event/ukulele-group/2026-01-01/
LOCATION:Brevard Room\, 104 Riverside Dr\, Cocoa\, FL\, 32922\, United States
CATEGORIES:Social
ATTACH;FMTTYPE=image/jpeg:https://www.oleanderpointe.com/wp-content/uploads/2025/11/Ukulele.jpg
END:VEVENT
BEGIN:VEVENT
DTSTART;TZID=America/New_York:20260101T123000
DTEND;TZID=America/New_York:20260101T170000
DTSTAMP:20260421T131217
CREATED:20251208T205128Z
LAST-MODIFIED:20251208T205129Z
UID:10000260-1767270600-1767286800@www.oleanderpointe.com
SUMMARY:Canasta
DESCRIPTION:Canasta\nEvery Thursday in the Card/ Game Room\nFrom 12:30 – 5 PM
URL:https://www.oleanderpointe.com/event/canasta-2/2026-01-01/
LOCATION:Card/Game Room\, 104 Riverside Dr\, Cocoa\, FL\, 32922\, United States
CATEGORIES:Social
ATTACH;FMTTYPE=image/jpeg:https://www.oleanderpointe.com/wp-content/uploads/2025/11/Canasta.jpg
END:VEVENT
BEGIN:VEVENT
DTSTART;TZID=America/New_York:20251229T130000
DTEND;TZID=America/New_York:20251229T170000
DTSTAMP:20260421T131217
CREATED:20251121T205551Z
LAST-MODIFIED:20251121T205551Z
UID:10000088-1767013200-1767027600@www.oleanderpointe.com
SUMMARY:Mahjong
DESCRIPTION:Mahjong\nEvery Monday in the Card/ Game Room\nFrom 1 – 5 PM
URL:https://www.oleanderpointe.com/event/mahjong/2025-12-29/
LOCATION:Card/Game Room\, 104 Riverside Dr\, Cocoa\, FL\, 32922\, United States
CATEGORIES:Social
ATTACH;FMTTYPE=image/jpeg:https://www.oleanderpointe.com/wp-content/uploads/2025/11/Mahjong.jpg
END:VEVENT
END:VCALENDAR